BEGIN:VCALENDAR
VERSION:2.0
PRODID:-//The Pack Indoor Dog Park - ECPv6.15.20//NONSGML v1.0//EN
CALSCALE:GREGORIAN
METHOD:PUBLISH
X-ORIGINAL-URL:https://thepackdogpark.com
X-WR-CALDESC:Events for The Pack Indoor Dog Park
REFRESH-INTERVAL;VALUE=DURATION:PT1H
X-Robots-Tag:noindex
X-PUBLISHED-TTL:PT1H
BEGIN:VTIMEZONE
TZID:UTC
BEGIN:STANDARD
TZOFFSETFROM:+0000
TZOFFSETTO:+0000
TZNAME:UTC
DTSTART:20230101T000000
END:STANDARD
END:VTIMEZONE
BEGIN:VEVENT
DTSTART;TZID=UTC:20241016T183000
DTEND;TZID=UTC:20241016T200000
DTSTAMP:20260425T012746
CREATED:20241001T155151Z
LAST-MODIFIED:20241001T155151Z
UID:588-1729103400-1729108800@thepackdogpark.com
SUMMARY:Euchre Night
DESCRIPTION:Come play Euchre with us! If bringing a dog\, they must have a punch card/ membership and be registered with proof of required vaccinations. Cost is $15 CASH ONLY to play. Partners will be randomly assigned and will rotate throughout the night. Do not need to come with a partner. Cash prizes for 1st-3rd place. Players should arrive a few minutes early as play will begin promptly at 6:30
URL:https://thepackdogpark.com/event/euchre-night-2/
LOCATION:The Pack Indoor Dog Park\, 5205 West River Dr NE\, Comstock Park\, MI\, 49321
ORGANIZER;CN="The Pack Indoor Dog Park":MAILTO:contact@thepackdogpark.com
END:VEVENT
BEGIN:VEVENT
DTSTART;TZID=UTC:20241022T183000
DTEND;TZID=UTC:20241022T200000
DTSTAMP:20260425T012746
CREATED:20241001T155853Z
LAST-MODIFIED:20241001T155853Z
UID:592-1729621800-1729627200@thepackdogpark.com
SUMMARY:Doggieland Game Night
DESCRIPTION:Come play in a fun interactive live game on the floor of the dog park! Game will start promptly at 6:30PM. Reservation required to save a spot (space is limited). Dogs can play during the game as normal. Roll giant dice and move throughout the space completing different activities to advance spaces. Be the first to the finish line for a prize! Call 616-236-3254 or email contact@thepackdogpark.com to make a reservation. Free for people to play. Dogs attending must have a punch card / membership and be registered with proof of required vaccinations.
URL:https://thepackdogpark.com/event/doggieland-game-night/
LOCATION:The Pack Indoor Dog Park\, 5205 West River Dr NE\, Comstock Park\, MI\, 49321
ORGANIZER;CN="The Pack Indoor Dog Park":MAILTO:contact@thepackdogpark.com
END:VEVENT
END:VCALENDAR