BEGIN:VCALENDAR
VERSION:2.0
PRODID:-//The Pack Indoor Dog Park - ECPv6.15.20//NONSGML v1.0//EN
CALSCALE:GREGORIAN
METHOD:PUBLISH
X-ORIGINAL-URL:https://thepackdogpark.com
X-WR-CALDESC:Events for The Pack Indoor Dog Park
REFRESH-INTERVAL;VALUE=DURATION:PT1H
X-Robots-Tag:noindex
X-PUBLISHED-TTL:PT1H
BEGIN:VTIMEZONE
TZID:UTC
BEGIN:STANDARD
TZOFFSETFROM:+0000
TZOFFSETTO:+0000
TZNAME:UTC
DTSTART:20230101T000000
END:STANDARD
END:VTIMEZONE
BEGIN:VEVENT
DTSTART;TZID=UTC:20241011T190000
DTEND;TZID=UTC:20241011T200000
DTSTAMP:20260425T105748
CREATED:20240926T002225Z
LAST-MODIFIED:20240926T002225Z
UID:582-1728673200-1728676800@thepackdogpark.com
SUMMARY:Just for Fun Dog Show
DESCRIPTION:Join our dog show for all dogs! All entry fees will be donated to Paws With A Cause – a local organization raising and training service dogs. Event will be held on Friday October 11th at 7pm. All dogs attending must be registered (thepackdogpark.com) with proof of required vaccinations and be comfortable around other dogs. Dogs only attending the dog show do not need to have a membership to attend. Dogs playing off leash before or after the show must have a punch card/membership. All dogs indoors must be on leash during the duration of the show. People of all ages welcome in the dog area during the show while dogs are all on leash. Dogs pay $5 per category they’re entering cash only at the event.
URL:https://thepackdogpark.com/event/just-for-fun-dog-show/
LOCATION:The Pack Indoor Dog Park\, 5205 West River Dr NE\, Comstock Park\, MI\, 49321
ORGANIZER;CN="The Pack Indoor Dog Park":MAILTO:contact@thepackdogpark.com
END:VEVENT
END:VCALENDAR