BEGIN:VCALENDAR
VERSION:2.0
PRODID:-//The Pack Indoor Dog Park - ECPv6.15.20//NONSGML v1.0//EN
CALSCALE:GREGORIAN
METHOD:PUBLISH
X-WR-CALNAME:The Pack Indoor Dog Park
X-ORIGINAL-URL:https://thepackdogpark.com
X-WR-CALDESC:Events for The Pack Indoor Dog Park
REFRESH-INTERVAL;VALUE=DURATION:PT1H
X-Robots-Tag:noindex
X-PUBLISHED-TTL:PT1H
BEGIN:VTIMEZONE
TZID:America/New_York
BEGIN:DAYLIGHT
TZOFFSETFROM:-0500
TZOFFSETTO:-0400
TZNAME:EDT
DTSTART:20240310T070000
END:DAYLIGHT
BEGIN:STANDARD
TZOFFSETFROM:-0400
TZOFFSETTO:-0500
TZNAME:EST
DTSTART:20241103T060000
END:STANDARD
BEGIN:DAYLIGHT
TZOFFSETFROM:-0500
TZOFFSETTO:-0400
TZNAME:EDT
DTSTART:20250309T070000
END:DAYLIGHT
BEGIN:STANDARD
TZOFFSETFROM:-0400
TZOFFSETTO:-0500
TZNAME:EST
DTSTART:20251102T060000
END:STANDARD
BEGIN:DAYLIGHT
TZOFFSETFROM:-0500
TZOFFSETTO:-0400
TZNAME:EDT
DTSTART:20260308T070000
END:DAYLIGHT
BEGIN:STANDARD
TZOFFSETFROM:-0400
TZOFFSETTO:-0500
TZNAME:EST
DTSTART:20261101T060000
END:STANDARD
END:VTIMEZONE
BEGIN:VTIMEZONE
TZID:UTC
BEGIN:STANDARD
TZOFFSETFROM:+0000
TZOFFSETTO:+0000
TZNAME:UTC
DTSTART:20240101T000000
END:STANDARD
END:VTIMEZONE
BEGIN:VEVENT
DTSTART;TZID=America/New_York:20250727T120000
DTEND;TZID=America/New_York:20250727T140000
DTSTAMP:20260423T175250
CREATED:20250513T011522Z
LAST-MODIFIED:20250513T011522Z
UID:675-1753617600-1753624800@thepackdogpark.com
SUMMARY:Pointers Breed Meetup
DESCRIPTION:Join us for a fun breed meetup! Dogs matching the breed can pay $10 or use a punch card / membership. All other breeds also welcome with a punch card / membership. All dogs must be registered with proof of required vaccinations.
URL:https://thepackdogpark.com/event/pointers-breed-meetup/
LOCATION:The Pack Indoor Dog Park\, 5205 West River Dr NE\, Comstock Park\, MI\, 49321
CATEGORIES:Breed Meetup
ORGANIZER;CN="The Pack Indoor Dog Park":MAILTO:contact@thepackdogpark.com
END:VEVENT
BEGIN:VEVENT
DTSTART;TZID=UTC:20250725T183000
DTEND;TZID=UTC:20250725T210000
DTSTAMP:20260423T175250
CREATED:20250702T183534Z
LAST-MODIFIED:20250702T183534Z
UID:730-1753468200-1753477200@thepackdogpark.com
SUMMARY:Paint Your Pet with Megan - July
DESCRIPTION:Join us for a fun event painting a special portrait on canvas of your beloved pet. After purchasing your ticket\, you’ll upload a photo of the pet you want to paint. Artist\, Megan will prep your canvas in a style that makes it easy for anyone to create a masterpiece so you’re sure to walk away with a wonderful piece of art! Tickets must be purchased ahead: thepackdogpark.square.site \nIf dogs would like to play while you participate in the event\, they must be registered with proof of required vaccinations and a membership / punch card.
URL:https://thepackdogpark.com/event/paint-your-pet-with-megan-july/
LOCATION:The Pack Indoor Dog Park\, 5205 West River Dr NE\, Comstock Park\, MI\, 49321
ORGANIZER;CN="The Pack Indoor Dog Park":MAILTO:contact@thepackdogpark.com
END:VEVENT
BEGIN:VEVENT
DTSTART;TZID=America/New_York:20250724T183000
DTEND;TZID=America/New_York:20250724T193000
DTSTAMP:20260423T175250
CREATED:20250529T201319Z
LAST-MODIFIED:20250529T201333Z
UID:705-1753381800-1753385400@thepackdogpark.com
SUMMARY:Trivia
DESCRIPTION:Join us every Thursday for Trivia with DnT Entertainent. Play solo or bring friends and play as a team. Gift card prizes to The Pack for 1st – 3rd place. Always free to play! Any dogs attending to play during trivia must be registered with a punch card or membership.
URL:https://thepackdogpark.com/event/trivia-9/
LOCATION:The Pack Indoor Dog Park\, 5205 West River Dr NE\, Comstock Park\, MI\, 49321
CATEGORIES:Breed Meetup
ORGANIZER;CN="The Pack Indoor Dog Park":MAILTO:contact@thepackdogpark.com
END:VEVENT
BEGIN:VEVENT
DTSTART;TZID=America/New_York:20250723T183000
DTEND;TZID=America/New_York:20250723T200000
DTSTAMP:20260423T175250
CREATED:20250513T011519Z
LAST-MODIFIED:20250513T011519Z
UID:674-1753295400-1753300800@thepackdogpark.com
SUMMARY:Spotted Dogs Breed Meetup
DESCRIPTION:Join us for a fun breed meetup! Dogs matching the breed can pay $10 or use a punch card / membership. All other breeds also welcome with a punch card / membership. All dogs must be registered with proof of required vaccinations.
URL:https://thepackdogpark.com/event/spotted-dogs-breed-meetup/
LOCATION:The Pack Indoor Dog Park\, 5205 West River Dr NE\, Comstock Park\, MI\, 49321
CATEGORIES:Breed Meetup
ORGANIZER;CN="The Pack Indoor Dog Park":MAILTO:contact@thepackdogpark.com
END:VEVENT
BEGIN:VEVENT
DTSTART;TZID=America/New_York:20250721T183000
DTEND;TZID=America/New_York:20250721T200000
DTSTAMP:20260423T175250
CREATED:20250513T011514Z
LAST-MODIFIED:20250513T011514Z
UID:673-1753122600-1753128000@thepackdogpark.com
SUMMARY:Snow Dogs Breed Meetup
DESCRIPTION:Join us for a fun breed meetup! Dogs matching the breed can pay $10 or use a punch card / membership. All other breeds also welcome with a punch card / membership. All dogs must be registered with proof of required vaccinations. This meetup includes games and giveaways at 7pm
URL:https://thepackdogpark.com/event/snow-dogs-breed-meetup/
LOCATION:The Pack Indoor Dog Park\, 5205 West River Dr NE\, Comstock Park\, MI\, 49321
CATEGORIES:Breed Meetup
ORGANIZER;CN="The Pack Indoor Dog Park":MAILTO:contact@thepackdogpark.com
END:VEVENT
BEGIN:VEVENT
DTSTART;TZID=America/New_York:20250720T120000
DTEND;TZID=America/New_York:20250720T140000
DTSTAMP:20260423T175250
CREATED:20250513T011512Z
LAST-MODIFIED:20250513T011512Z
UID:672-1753012800-1753020000@thepackdogpark.com
SUMMARY:Large Breed (70+lb) Breed Meetup
DESCRIPTION:Join us for a fun breed meetup! Dogs matching the breed can pay $10 or use a punch card / membership. All other breeds also welcome with a punch card / membership. All dogs must be registered with proof of required vaccinations.
URL:https://thepackdogpark.com/event/large-breed-70lb-breed-meetup/
LOCATION:The Pack Indoor Dog Park\, 5205 West River Dr NE\, Comstock Park\, MI\, 49321
CATEGORIES:Breed Meetup
ORGANIZER;CN="The Pack Indoor Dog Park":MAILTO:contact@thepackdogpark.com
END:VEVENT
BEGIN:VEVENT
DTSTART;TZID=UTC:20250719T160000
DTEND;TZID=UTC:20250719T190000
DTSTAMP:20260423T175250
CREATED:20250702T184832Z
LAST-MODIFIED:20250702T184832Z
UID:732-1752940800-1752951600@thepackdogpark.com
SUMMARY:Splash\, Suds\, & Spirits
DESCRIPTION:We’re hosting Spirit Hound Distillery for a fun foam and pool party! The patio bar will be open\, the pool out\, and the foam machine running! No reservations required. No cover for humans; $10 for dogs or use a membership / punch card to come join in the fun. All dogs must be registered with proof of required vaccinations.
URL:https://thepackdogpark.com/event/splash-suds-spirits/
LOCATION:The Pack Indoor Dog Park\, 5205 West River Dr NE\, Comstock Park\, MI\, 49321
CATEGORIES:Food and Drink
ATTACH;FMTTYPE=image/png:https://thepackdogpark.com/wp-content/uploads/2025/07/Splash-Suds-Spirits.png
ORGANIZER;CN="The Pack Indoor Dog Park":MAILTO:contact@thepackdogpark.com
END:VEVENT
BEGIN:VEVENT
DTSTART;TZID=America/New_York:20250717T183000
DTEND;TZID=America/New_York:20250717T193000
DTSTAMP:20260423T175250
CREATED:20250529T201317Z
LAST-MODIFIED:20250529T201331Z
UID:704-1752777000-1752780600@thepackdogpark.com
SUMMARY:Trivia
DESCRIPTION:Join us every Thursday for Trivia with DnT Entertainent. Play solo or bring friends and play as a team. Gift card prizes to The Pack for 1st – 3rd place. Always free to play! Any dogs attending to play during trivia must be registered with a punch card or membership.
URL:https://thepackdogpark.com/event/trivia-8/
LOCATION:The Pack Indoor Dog Park\, 5205 West River Dr NE\, Comstock Park\, MI\, 49321
CATEGORIES:Breed Meetup
ORGANIZER;CN="The Pack Indoor Dog Park":MAILTO:contact@thepackdogpark.com
END:VEVENT
BEGIN:VEVENT
DTSTART;TZID=America/New_York:20250716T183000
DTEND;TZID=America/New_York:20250716T200000
DTSTAMP:20260423T175250
CREATED:20250513T011506Z
LAST-MODIFIED:20250513T011506Z
UID:671-1752690600-1752696000@thepackdogpark.com
SUMMARY:Bernese Mountain Dog Breed Meetup
DESCRIPTION:Join us for a fun breed meetup! Dogs matching the breed can pay $10 or use a punch card / membership. All other breeds also welcome with a punch card / membership. All dogs must be registered with proof of required vaccinations. This meetup includes games and giveaways at 7pm
URL:https://thepackdogpark.com/event/bernese-mountain-dog-breed-meetup-2/
LOCATION:The Pack Indoor Dog Park\, 5205 West River Dr NE\, Comstock Park\, MI\, 49321
CATEGORIES:Breed Meetup
ORGANIZER;CN="The Pack Indoor Dog Park":MAILTO:contact@thepackdogpark.com
END:VEVENT
BEGIN:VEVENT
DTSTART;TZID=America/New_York:20250714T183000
DTEND;TZID=America/New_York:20250714T200000
DTSTAMP:20260423T175250
CREATED:20250513T011504Z
LAST-MODIFIED:20250513T011504Z
UID:670-1752517800-1752523200@thepackdogpark.com
SUMMARY:Sighthound Breed Meetup
DESCRIPTION:Join us for a fun breed meetup! Dogs matching the breed can pay $10 or use a punch card / membership. All other breeds also welcome with a punch card / membership. All dogs must be registered with proof of required vaccinations.
URL:https://thepackdogpark.com/event/sighthound-breed-meetup/
LOCATION:The Pack Indoor Dog Park\, 5205 West River Dr NE\, Comstock Park\, MI\, 49321
CATEGORIES:Breed Meetup
ORGANIZER;CN="The Pack Indoor Dog Park":MAILTO:contact@thepackdogpark.com
END:VEVENT
BEGIN:VEVENT
DTSTART;TZID=America/New_York:20250713T120000
DTEND;TZID=America/New_York:20250713T140000
DTSTAMP:20260423T175250
CREATED:20250513T011501Z
LAST-MODIFIED:20250513T011501Z
UID:669-1752408000-1752415200@thepackdogpark.com
SUMMARY:Golden Retriever Breed Meetup
DESCRIPTION:Join us for a fun breed meetup! Dogs matching the breed can pay $10 or use a punch card / membership. All other breeds also welcome with a punch card / membership. All dogs must be registered with proof of required vaccinations.
URL:https://thepackdogpark.com/event/golden-retriever-breed-meetup-3/
LOCATION:The Pack Indoor Dog Park\, 5205 West River Dr NE\, Comstock Park\, MI\, 49321
CATEGORIES:Breed Meetup
ORGANIZER;CN="The Pack Indoor Dog Park":MAILTO:contact@thepackdogpark.com
END:VEVENT
BEGIN:VEVENT
DTSTART;TZID=UTC:20250712T193000
DTEND;TZID=UTC:20250712T220000
DTSTAMP:20260423T175250
CREATED:20250702T182436Z
LAST-MODIFIED:20250702T183136Z
UID:728-1752348600-1752357600@thepackdogpark.com
SUMMARY:Saturday Night Comedy
DESCRIPTION:Join us for a night of laughs at The Pack! This people only event is suitable for adults 18+. Our full kitchen and bar will be open throughout the event. This event will be hosted by: Hayden Miedema; Openers: Lucky Lee\, Morgan Sterling\, Jeff Teed\, and Peter Sillanpaa; Featuring: Stu McCallister and Brandon Cooley; Headliner: Andrew Yang. Tickets are $10 and must be purchased in advance. Space is limited! Tickets: thepackdogpark.square.site
URL:https://thepackdogpark.com/event/saturday-night-comedy/
LOCATION:The Pack Indoor Dog Park\, 5205 West River Dr NE\, Comstock Park\, MI\, 49321
ORGANIZER;CN="The Pack Indoor Dog Park":MAILTO:contact@thepackdogpark.com
END:VEVENT
BEGIN:VEVENT
DTSTART;TZID=America/New_York:20250710T183000
DTEND;TZID=America/New_York:20250710T193000
DTSTAMP:20260423T175250
CREATED:20250529T201314Z
LAST-MODIFIED:20250529T201329Z
UID:703-1752172200-1752175800@thepackdogpark.com
SUMMARY:Trivia
DESCRIPTION:Join us every Thursday for Trivia with DnT Entertainent. Play solo or bring friends and play as a team. Gift card prizes to The Pack for 1st – 3rd place. Always free to play! Any dogs attending to play during trivia must be registered with a punch card or membership.
URL:https://thepackdogpark.com/event/trivia-7/
LOCATION:The Pack Indoor Dog Park\, 5205 West River Dr NE\, Comstock Park\, MI\, 49321
CATEGORIES:Breed Meetup
ORGANIZER;CN="The Pack Indoor Dog Park":MAILTO:contact@thepackdogpark.com
END:VEVENT
BEGIN:VEVENT
DTSTART;TZID=America/New_York:20250709T183000
DTEND;TZID=America/New_York:20250709T200000
DTSTAMP:20260423T175250
CREATED:20250513T011459Z
LAST-MODIFIED:20250513T011459Z
UID:668-1752085800-1752091200@thepackdogpark.com
SUMMARY:Rescue Dog Meetup
DESCRIPTION:Join us for a fun breed meetup! Dogs matching the breed can pay $10 or use a punch card / membership. All other breeds also welcome with a punch card / membership. All dogs must be registered with proof of required vaccinations. This meetup includes games and giveaways at 7pm
URL:https://thepackdogpark.com/event/rescue-dog-meetup/
LOCATION:The Pack Indoor Dog Park\, 5205 West River Dr NE\, Comstock Park\, MI\, 49321
CATEGORIES:Breed Meetup
ORGANIZER;CN="The Pack Indoor Dog Park":MAILTO:contact@thepackdogpark.com
END:VEVENT
BEGIN:VEVENT
DTSTART;TZID=America/New_York:20250707T183000
DTEND;TZID=America/New_York:20250707T200000
DTSTAMP:20260423T175250
CREATED:20250513T011457Z
LAST-MODIFIED:20250513T011457Z
UID:667-1751913000-1751918400@thepackdogpark.com
SUMMARY:Goldendoodle Breed Meetup
DESCRIPTION:Join us for a fun breed meetup! Dogs matching the breed can pay $10 or use a punch card / membership. All other breeds also welcome with a punch card / membership. All dogs must be registered with proof of required vaccinations.
URL:https://thepackdogpark.com/event/goldendoodle-breed-meetup-3/
LOCATION:The Pack Indoor Dog Park\, 5205 West River Dr NE\, Comstock Park\, MI\, 49321
CATEGORIES:Breed Meetup
ORGANIZER;CN="The Pack Indoor Dog Park":MAILTO:contact@thepackdogpark.com
END:VEVENT
BEGIN:VEVENT
DTSTART;VALUE=DATE:20250704
DTEND;VALUE=DATE:20250707
DTSTAMP:20260423T175250
CREATED:20250701T011433Z
LAST-MODIFIED:20250701T011433Z
UID:725-1751587200-1751846399@thepackdogpark.com
SUMMARY:CLOSED 4th of July
DESCRIPTION:Closed July 4-6
URL:https://thepackdogpark.com/event/closed-4th-of-july/
LOCATION:The Pack Indoor Dog Park\, 5205 West River Dr NE\, Comstock Park\, MI\, 49321
ORGANIZER;CN="The Pack Indoor Dog Park":MAILTO:contact@thepackdogpark.com
END:VEVENT
BEGIN:VEVENT
DTSTART;TZID=America/New_York:20250630T183000
DTEND;TZID=America/New_York:20250630T200000
DTSTAMP:20260423T175250
CREATED:20250513T011451Z
LAST-MODIFIED:20250513T011451Z
UID:666-1751308200-1751313600@thepackdogpark.com
SUMMARY:Mixed Breed Meetup
DESCRIPTION:Join us for a fun breed meetup! Dogs matching the breed can pay $10 or use a punch card / membership. All other breeds also welcome with a punch card / membership. All dogs must be registered with proof of required vaccinations.
URL:https://thepackdogpark.com/event/mixed-breed-meetup/
LOCATION:The Pack Indoor Dog Park\, 5205 West River Dr NE\, Comstock Park\, MI\, 49321
CATEGORIES:Breed Meetup
ORGANIZER;CN="The Pack Indoor Dog Park":MAILTO:contact@thepackdogpark.com
END:VEVENT
BEGIN:VEVENT
DTSTART;TZID=America/New_York:20250629T120000
DTEND;TZID=America/New_York:20250629T140000
DTSTAMP:20260423T175250
CREATED:20250513T011441Z
LAST-MODIFIED:20250513T011441Z
UID:665-1751198400-1751205600@thepackdogpark.com
SUMMARY:French Bulldog Breed Meetup
DESCRIPTION:Join us for a fun breed meetup! Dogs matching the breed can pay $10 or use a punch card / membership. All other breeds also welcome with a punch card / membership. All dogs must be registered with proof of required vaccinations. This meetup includes games and giveaways at 1PM
URL:https://thepackdogpark.com/event/french-bulldog-breed-meetup/
LOCATION:The Pack Indoor Dog Park\, 5205 West River Dr NE\, Comstock Park\, MI\, 49321
CATEGORIES:Breed Meetup
ORGANIZER;CN="The Pack Indoor Dog Park":MAILTO:contact@thepackdogpark.com
END:VEVENT
BEGIN:VEVENT
DTSTART;TZID=America/New_York:20250626T183000
DTEND;TZID=America/New_York:20250626T193000
DTSTAMP:20260423T175250
CREATED:20250529T201307Z
LAST-MODIFIED:20250529T201323Z
UID:701-1750962600-1750966200@thepackdogpark.com
SUMMARY:Trivia
DESCRIPTION:Join us every Thursday for Trivia with DnT Entertainent. Play solo or bring friends and play as a team. Gift card prizes to The Pack for 1st – 3rd place. Always free to play! Any dogs attending to play during trivia must be registered with a punch card or membership.
URL:https://thepackdogpark.com/event/trivia-5/
LOCATION:The Pack Indoor Dog Park\, 5205 West River Dr NE\, Comstock Park\, MI\, 49321
CATEGORIES:Breed Meetup
ORGANIZER;CN="The Pack Indoor Dog Park":MAILTO:contact@thepackdogpark.com
END:VEVENT
BEGIN:VEVENT
DTSTART;TZID=America/New_York:20250625T183000
DTEND;TZID=America/New_York:20250625T200000
DTSTAMP:20260423T175250
CREATED:20250513T011438Z
LAST-MODIFIED:20250513T011438Z
UID:664-1750876200-1750881600@thepackdogpark.com
SUMMARY:Poos Breed Meetup (maltipoo\, shih-poo\, etc.)
DESCRIPTION:Join us for a fun breed meetup! Dogs matching the breed can pay $10 or use a punch card / membership. All other breeds also welcome with a punch card / membership. All dogs must be registered with proof of required vaccinations.
URL:https://thepackdogpark.com/event/poos-breed-meetup-maltipoo-shih-poo-etc/
LOCATION:The Pack Indoor Dog Park\, 5205 West River Dr NE\, Comstock Park\, MI\, 49321
CATEGORIES:Breed Meetup
ORGANIZER;CN="The Pack Indoor Dog Park":MAILTO:contact@thepackdogpark.com
END:VEVENT
BEGIN:VEVENT
DTSTART;TZID=America/New_York:20250623T183000
DTEND;TZID=America/New_York:20250623T200000
DTSTAMP:20260423T175250
CREATED:20250513T011436Z
LAST-MODIFIED:20250513T011436Z
UID:663-1750703400-1750708800@thepackdogpark.com
SUMMARY:Boxer Breed Meetup
DESCRIPTION:Join us for a fun breed meetup! Dogs matching the breed can pay $10 or use a punch card / membership. All other breeds also welcome with a punch card / membership. All dogs must be registered with proof of required vaccinations.
URL:https://thepackdogpark.com/event/boxer-breed-meetup/
LOCATION:The Pack Indoor Dog Park\, 5205 West River Dr NE\, Comstock Park\, MI\, 49321
CATEGORIES:Breed Meetup
ORGANIZER;CN="The Pack Indoor Dog Park":MAILTO:contact@thepackdogpark.com
END:VEVENT
BEGIN:VEVENT
DTSTART;TZID=America/New_York:20250622T120000
DTEND;TZID=America/New_York:20250622T140000
DTSTAMP:20260423T175250
CREATED:20250513T011434Z
LAST-MODIFIED:20250513T011434Z
UID:662-1750593600-1750600800@thepackdogpark.com
SUMMARY:Greyhound Meetup
DESCRIPTION:Join us for a fun breed meetup! Dogs matching the breed can pay $10 or use a punch card / membership. All other breeds also welcome with a punch card / membership. All dogs must be registered with proof of required vaccinations.
URL:https://thepackdogpark.com/event/greyhound-meetup/
LOCATION:The Pack Indoor Dog Park\, 5205 West River Dr NE\, Comstock Park\, MI\, 49321
CATEGORIES:Breed Meetup
ORGANIZER;CN="The Pack Indoor Dog Park":MAILTO:contact@thepackdogpark.com
END:VEVENT
BEGIN:VEVENT
DTSTART;TZID=America/New_York:20250621T160000
DTEND;TZID=America/New_York:20250621T190000
DTSTAMP:20260423T175250
CREATED:20250529T201417Z
LAST-MODIFIED:20250529T201417Z
UID:723-1750521600-1750532400@thepackdogpark.com
SUMMARY:Bubbles & Brews Bash
DESCRIPTION:Foam and pool party with beer samples and giveaways presented by: Cheboygan Brewing. Join us for some fun in the sun and try out our new foam machine! It’s sure to be a great time. All dogs attending must be registered with proof of required vaccinations. Dogs without a punch card / membership may come play for $10. No cover charge for humans attending. No RSVP needed.
URL:https://thepackdogpark.com/event/bubbles-brews-bash/
LOCATION:The Pack Indoor Dog Park\, 5205 West River Dr NE\, Comstock Park\, MI\, 49321
ORGANIZER;CN="The Pack Indoor Dog Park":MAILTO:contact@thepackdogpark.com
END:VEVENT
BEGIN:VEVENT
DTSTART;TZID=America/New_York:20250619T183000
DTEND;TZID=America/New_York:20250619T193000
DTSTAMP:20260423T175250
CREATED:20250529T201301Z
LAST-MODIFIED:20250529T201301Z
UID:700-1750357800-1750361400@thepackdogpark.com
SUMMARY:Trivia
DESCRIPTION:Join us every Thursday for Trivia with DnT Entertainent. Play solo or bring friends and play as a team. Gift card prizes to The Pack for 1st – 3rd place. Always free to play! Any dogs attending to play during trivia must be registered with a punch card or membership.
URL:https://thepackdogpark.com/event/trivia-4/
LOCATION:The Pack Indoor Dog Park\, 5205 West River Dr NE\, Comstock Park\, MI\, 49321
CATEGORIES:Breed Meetup
ORGANIZER;CN="The Pack Indoor Dog Park":MAILTO:contact@thepackdogpark.com
END:VEVENT
BEGIN:VEVENT
DTSTART;TZID=America/New_York:20250618T183000
DTEND;TZID=America/New_York:20250618T200000
DTSTAMP:20260423T175250
CREATED:20250513T011428Z
LAST-MODIFIED:20250513T011428Z
UID:661-1750271400-1750276800@thepackdogpark.com
SUMMARY:Sporting Breeds Meetup
DESCRIPTION:Join us for a fun breed meetup! Dogs matching the breed can pay $10 or use a punch card / membership. All other breeds also welcome with a punch card / membership. All dogs must be registered with proof of required vaccinations.
URL:https://thepackdogpark.com/event/sporting-breeds-meetup/
LOCATION:The Pack Indoor Dog Park\, 5205 West River Dr NE\, Comstock Park\, MI\, 49321
CATEGORIES:Breed Meetup
ORGANIZER;CN="The Pack Indoor Dog Park":MAILTO:contact@thepackdogpark.com
END:VEVENT
BEGIN:VEVENT
DTSTART;TZID=America/New_York:20250616T183000
DTEND;TZID=America/New_York:20250616T200000
DTSTAMP:20260423T175250
CREATED:20250513T011426Z
LAST-MODIFIED:20250513T011426Z
UID:660-1750098600-1750104000@thepackdogpark.com
SUMMARY:Goldendoodle Breed Meetup
DESCRIPTION:Join us for a fun breed meetup! Dogs matching the breed can pay $10 or use a punch card / membership. All other breeds also welcome with a punch card / membership. All dogs must be registered with proof of required vaccinations. This meetup includes games and giveaways at 7pm
URL:https://thepackdogpark.com/event/goldendoodle-breed-meetup-2/
LOCATION:The Pack Indoor Dog Park\, 5205 West River Dr NE\, Comstock Park\, MI\, 49321
CATEGORIES:Breed Meetup
ORGANIZER;CN="The Pack Indoor Dog Park":MAILTO:contact@thepackdogpark.com
END:VEVENT
BEGIN:VEVENT
DTSTART;TZID=America/New_York:20250615T120000
DTEND;TZID=America/New_York:20250615T140000
DTSTAMP:20260423T175250
CREATED:20250513T011423Z
LAST-MODIFIED:20250513T011423Z
UID:659-1749988800-1749996000@thepackdogpark.com
SUMMARY:Fluffy Breeds Meetup
DESCRIPTION:Join us for a fun breed meetup! Dogs matching the breed can pay $10 or use a punch card / membership. All other breeds also welcome with a punch card / membership. All dogs must be registered with proof of required vaccinations.
URL:https://thepackdogpark.com/event/fluffy-breeds-meetup/
LOCATION:The Pack Indoor Dog Park\, 5205 West River Dr NE\, Comstock Park\, MI\, 49321
CATEGORIES:Breed Meetup
ORGANIZER;CN="The Pack Indoor Dog Park":MAILTO:contact@thepackdogpark.com
END:VEVENT
BEGIN:VEVENT
DTSTART;TZID=America/New_York:20250612T183000
DTEND;TZID=America/New_York:20250612T193000
DTSTAMP:20260423T175250
CREATED:20250529T201259Z
LAST-MODIFIED:20250529T201259Z
UID:699-1749753000-1749756600@thepackdogpark.com
SUMMARY:Trivia
DESCRIPTION:Join us every Thursday for Trivia with DnT Entertainent. Play solo or bring friends and play as a team. Gift card prizes to The Pack for 1st – 3rd place. Always free to play! Any dogs attending to play during trivia must be registered with a punch card or membership.
URL:https://thepackdogpark.com/event/trivia-3/
LOCATION:The Pack Indoor Dog Park\, 5205 West River Dr NE\, Comstock Park\, MI\, 49321
CATEGORIES:Breed Meetup
ORGANIZER;CN="The Pack Indoor Dog Park":MAILTO:contact@thepackdogpark.com
END:VEVENT
BEGIN:VEVENT
DTSTART;TZID=America/New_York:20250611T183000
DTEND;TZID=America/New_York:20250611T200000
DTSTAMP:20260423T175250
CREATED:20250513T011422Z
LAST-MODIFIED:20250513T011422Z
UID:658-1749666600-1749672000@thepackdogpark.com
SUMMARY:Corgi Breed Meetup
DESCRIPTION:Join us for a fun breed meetup! Dogs matching the breed can pay $10 or use a punch card / membership. All other breeds also welcome with a punch card / membership. All dogs must be registered with proof of required vaccinations.
URL:https://thepackdogpark.com/event/corgi-breed-meetup-2/
LOCATION:The Pack Indoor Dog Park\, 5205 West River Dr NE\, Comstock Park\, MI\, 49321
CATEGORIES:Breed Meetup
ORGANIZER;CN="The Pack Indoor Dog Park":MAILTO:contact@thepackdogpark.com
END:VEVENT
BEGIN:VEVENT
DTSTART;TZID=America/New_York:20250609T183000
DTEND;TZID=America/New_York:20250609T200000
DTSTAMP:20260423T175250
CREATED:20250513T011419Z
LAST-MODIFIED:20250513T011419Z
UID:657-1749493800-1749499200@thepackdogpark.com
SUMMARY:Bernese Mountain Dog Breed Meetup
DESCRIPTION:Join us for a fun breed meetup! Dogs matching the breed can pay $10 or use a punch card / membership. All other breeds also welcome with a punch card / membership. All dogs must be registered with proof of required vaccinations. This meetup includes games and giveaways at 7pm
URL:https://thepackdogpark.com/event/bernese-mountain-dog-breed-meetup/
LOCATION:The Pack Indoor Dog Park\, 5205 West River Dr NE\, Comstock Park\, MI\, 49321
CATEGORIES:Breed Meetup
ORGANIZER;CN="The Pack Indoor Dog Park":MAILTO:contact@thepackdogpark.com
END:VEVENT
END:VCALENDAR