BEGIN:VCALENDAR
VERSION:2.0
PRODID:-//The Pack Indoor Dog Park - ECPv6.15.20//NONSGML v1.0//EN
CALSCALE:GREGORIAN
METHOD:PUBLISH
X-WR-CALNAME:The Pack Indoor Dog Park
X-ORIGINAL-URL:https://thepackdogpark.com
X-WR-CALDESC:Events for The Pack Indoor Dog Park
REFRESH-INTERVAL;VALUE=DURATION:PT1H
X-Robots-Tag:noindex
X-PUBLISHED-TTL:PT1H
BEGIN:VTIMEZONE
TZID:America/New_York
BEGIN:DAYLIGHT
TZOFFSETFROM:-0500
TZOFFSETTO:-0400
TZNAME:EDT
DTSTART:20240310T070000
END:DAYLIGHT
BEGIN:STANDARD
TZOFFSETFROM:-0400
TZOFFSETTO:-0500
TZNAME:EST
DTSTART:20241103T060000
END:STANDARD
BEGIN:DAYLIGHT
TZOFFSETFROM:-0500
TZOFFSETTO:-0400
TZNAME:EDT
DTSTART:20250309T070000
END:DAYLIGHT
BEGIN:STANDARD
TZOFFSETFROM:-0400
TZOFFSETTO:-0500
TZNAME:EST
DTSTART:20251102T060000
END:STANDARD
BEGIN:DAYLIGHT
TZOFFSETFROM:-0500
TZOFFSETTO:-0400
TZNAME:EDT
DTSTART:20260308T070000
END:DAYLIGHT
BEGIN:STANDARD
TZOFFSETFROM:-0400
TZOFFSETTO:-0500
TZNAME:EST
DTSTART:20261101T060000
END:STANDARD
END:VTIMEZONE
BEGIN:VTIMEZONE
TZID:UTC
BEGIN:STANDARD
TZOFFSETFROM:+0000
TZOFFSETTO:+0000
TZNAME:UTC
DTSTART:20240101T000000
END:STANDARD
END:VTIMEZONE
BEGIN:VEVENT
DTSTART;TZID=America/New_York:20251009T183000
DTEND;TZID=America/New_York:20251009T193000
DTSTAMP:20260423T143533
CREATED:20250529T201412Z
LAST-MODIFIED:20250529T201412Z
UID:721-1760034600-1760038200@thepackdogpark.com
SUMMARY:Trivia
DESCRIPTION:Join us every Thursday for Trivia with DnT Entertainent. Play solo or bring friends and play as a team. Gift card prizes to The Pack for 1st – 3rd place. Always free to play! Any dogs attending to play during trivia must be registered with a punch card or membership.
URL:https://thepackdogpark.com/event/trivia-20/
LOCATION:The Pack Indoor Dog Park\, 5205 West River Dr NE\, Comstock Park\, MI\, 49321
CATEGORIES:Breed Meetup
ORGANIZER;CN="The Pack Indoor Dog Park":MAILTO:contact@thepackdogpark.com
END:VEVENT
BEGIN:VEVENT
DTSTART;TZID=America/New_York:20251002T183000
DTEND;TZID=America/New_York:20251002T193000
DTSTAMP:20260423T143533
CREATED:20250529T201408Z
LAST-MODIFIED:20250529T201408Z
UID:720-1759429800-1759433400@thepackdogpark.com
SUMMARY:Trivia
DESCRIPTION:Join us every Thursday for Trivia with DnT Entertainent. Play solo or bring friends and play as a team. Gift card prizes to The Pack for 1st – 3rd place. Always free to play! Any dogs attending to play during trivia must be registered with a punch card or membership.
URL:https://thepackdogpark.com/event/trivia-19/
LOCATION:The Pack Indoor Dog Park\, 5205 West River Dr NE\, Comstock Park\, MI\, 49321
CATEGORIES:Breed Meetup
ORGANIZER;CN="The Pack Indoor Dog Park":MAILTO:contact@thepackdogpark.com
END:VEVENT
BEGIN:VEVENT
DTSTART;TZID=America/New_York:20250925T183000
DTEND;TZID=America/New_York:20250925T193000
DTSTAMP:20260423T143533
CREATED:20250529T201404Z
LAST-MODIFIED:20250529T201404Z
UID:719-1758825000-1758828600@thepackdogpark.com
SUMMARY:Trivia
DESCRIPTION:Join us every Thursday for Trivia with DnT Entertainent. Play solo or bring friends and play as a team. Gift card prizes to The Pack for 1st – 3rd place. Always free to play! Any dogs attending to play during trivia must be registered with a punch card or membership.
URL:https://thepackdogpark.com/event/trivia-18/
LOCATION:The Pack Indoor Dog Park\, 5205 West River Dr NE\, Comstock Park\, MI\, 49321
CATEGORIES:Breed Meetup
ORGANIZER;CN="The Pack Indoor Dog Park":MAILTO:contact@thepackdogpark.com
END:VEVENT
BEGIN:VEVENT
DTSTART;TZID=America/New_York:20250918T183000
DTEND;TZID=America/New_York:20250918T193000
DTSTAMP:20260423T143533
CREATED:20250529T201402Z
LAST-MODIFIED:20250529T201402Z
UID:718-1758220200-1758223800@thepackdogpark.com
SUMMARY:Trivia
DESCRIPTION:Join us every Thursday for Trivia with DnT Entertainent. Play solo or bring friends and play as a team. Gift card prizes to The Pack for 1st – 3rd place. Always free to play! Any dogs attending to play during trivia must be registered with a punch card or membership.
URL:https://thepackdogpark.com/event/trivia-17/
LOCATION:The Pack Indoor Dog Park\, 5205 West River Dr NE\, Comstock Park\, MI\, 49321
CATEGORIES:Breed Meetup
ORGANIZER;CN="The Pack Indoor Dog Park":MAILTO:contact@thepackdogpark.com
END:VEVENT
BEGIN:VEVENT
DTSTART;TZID=America/New_York:20250911T183000
DTEND;TZID=America/New_York:20250911T193000
DTSTAMP:20260423T143533
CREATED:20250529T201359Z
LAST-MODIFIED:20250529T201359Z
UID:717-1757615400-1757619000@thepackdogpark.com
SUMMARY:Trivia
DESCRIPTION:Join us every Thursday for Trivia with DnT Entertainent. Play solo or bring friends and play as a team. Gift card prizes to The Pack for 1st – 3rd place. Always free to play! Any dogs attending to play during trivia must be registered with a punch card or membership.
URL:https://thepackdogpark.com/event/trivia-16/
LOCATION:The Pack Indoor Dog Park\, 5205 West River Dr NE\, Comstock Park\, MI\, 49321
CATEGORIES:Breed Meetup
ORGANIZER;CN="The Pack Indoor Dog Park":MAILTO:contact@thepackdogpark.com
END:VEVENT
BEGIN:VEVENT
DTSTART;TZID=America/New_York:20250904T183000
DTEND;TZID=America/New_York:20250904T193000
DTSTAMP:20260423T143533
CREATED:20250529T201357Z
LAST-MODIFIED:20250529T201357Z
UID:716-1757010600-1757014200@thepackdogpark.com
SUMMARY:Trivia
DESCRIPTION:Join us every Thursday for Trivia with DnT Entertainent. Play solo or bring friends and play as a team. Gift card prizes to The Pack for 1st – 3rd place. Always free to play! Any dogs attending to play during trivia must be registered with a punch card or membership.
URL:https://thepackdogpark.com/event/trivia-15/
LOCATION:The Pack Indoor Dog Park\, 5205 West River Dr NE\, Comstock Park\, MI\, 49321
CATEGORIES:Breed Meetup
ORGANIZER;CN="The Pack Indoor Dog Park":MAILTO:contact@thepackdogpark.com
END:VEVENT
BEGIN:VEVENT
DTSTART;TZID=UTC:20250829T183000
DTEND;TZID=UTC:20250829T210000
DTSTAMP:20260423T143533
CREATED:20250806T203738Z
LAST-MODIFIED:20250806T203738Z
UID:735-1756492200-1756501200@thepackdogpark.com
SUMMARY:August Paint Your Pet with Megan
DESCRIPTION:Join us for a fun night that will leave you with a custom painting of your dog! \nAfter purchasing your ticket\, we will reach out to get an image of your pet for Megan to prepare your canvas before class. \nDogs attending the event must be registered with proof of vaccinations and a punch card or membership to play during the event. No dogs will be allowed in dining area where painting activity will take place. Dog does not need to attend to participate in the event. Event includes all supplies including canvas and paints and instruction from artist\, Megan.
URL:https://thepackdogpark.com/event/august-paint-your-pet-with-megan/
LOCATION:The Pack Indoor Dog Park\, 5205 West River Dr NE\, Comstock Park\, MI\, 49321
ORGANIZER;CN="The Pack Indoor Dog Park":MAILTO:contact@thepackdogpark.com
END:VEVENT
BEGIN:VEVENT
DTSTART;TZID=America/New_York:20250828T183000
DTEND;TZID=America/New_York:20250828T193000
DTSTAMP:20260423T143533
CREATED:20250529T201353Z
LAST-MODIFIED:20250529T201353Z
UID:715-1756405800-1756409400@thepackdogpark.com
SUMMARY:Trivia
DESCRIPTION:Join us every Thursday for Trivia with DnT Entertainent. Play solo or bring friends and play as a team. Gift card prizes to The Pack for 1st – 3rd place. Always free to play! Any dogs attending to play during trivia must be registered with a punch card or membership.
URL:https://thepackdogpark.com/event/trivia-14/
LOCATION:The Pack Indoor Dog Park\, 5205 West River Dr NE\, Comstock Park\, MI\, 49321
CATEGORIES:Breed Meetup
ORGANIZER;CN="The Pack Indoor Dog Park":MAILTO:contact@thepackdogpark.com
END:VEVENT
BEGIN:VEVENT
DTSTART;TZID=America/New_York:20250824T120000
DTEND;TZID=America/New_York:20250824T140000
DTSTAMP:20260423T143533
CREATED:20250529T201240Z
LAST-MODIFIED:20250824T182311Z
UID:696-1756036800-1756044000@thepackdogpark.com
SUMMARY:Rescue Dogs Meetup
DESCRIPTION:Join us for a fun breed meetup! Dogs matching the breed can pay $10 or use a punch card / membership. All other breeds also welcome with a punch card / membership. All dogs must be registered with proof of required vaccinations.
URL:https://thepackdogpark.com/event/rescue-dogs-meetup/
LOCATION:The Pack Indoor Dog Park\, 5205 West River Dr NE\, Comstock Park\, MI\, 49321
CATEGORIES:Breed Meetup
ORGANIZER;CN="The Pack Indoor Dog Park":MAILTO:contact@thepackdogpark.com
END:VEVENT
BEGIN:VEVENT
DTSTART;TZID=America/New_York:20250821T183000
DTEND;TZID=America/New_York:20250821T193000
DTSTAMP:20260423T143533
CREATED:20250529T201348Z
LAST-MODIFIED:20250529T201348Z
UID:714-1755801000-1755804600@thepackdogpark.com
SUMMARY:Trivia
DESCRIPTION:Join us every Thursday for Trivia with DnT Entertainent. Play solo or bring friends and play as a team. Gift card prizes to The Pack for 1st – 3rd place. Always free to play! Any dogs attending to play during trivia must be registered with a punch card or membership.
URL:https://thepackdogpark.com/event/trivia-13/
LOCATION:The Pack Indoor Dog Park\, 5205 West River Dr NE\, Comstock Park\, MI\, 49321
CATEGORIES:Breed Meetup
ORGANIZER;CN="The Pack Indoor Dog Park":MAILTO:contact@thepackdogpark.com
END:VEVENT
BEGIN:VEVENT
DTSTART;TZID=America/New_York:20250820T183000
DTEND;TZID=America/New_York:20250820T200000
DTSTAMP:20260423T143533
CREATED:20250513T011600Z
LAST-MODIFIED:20250513T011600Z
UID:686-1755714600-1755720000@thepackdogpark.com
SUMMARY:Water Lovers Breed Meetup
DESCRIPTION:Join us for a fun breed meetup! Dogs matching the breed can pay $10 or use a punch card / membership. All other breeds also welcome with a punch card / membership. All dogs must be registered with proof of required vaccinations. This meetup includes games and giveaways at 7pm
URL:https://thepackdogpark.com/event/water-lovers-breed-meetup/
LOCATION:The Pack Indoor Dog Park\, 5205 West River Dr NE\, Comstock Park\, MI\, 49321
CATEGORIES:Breed Meetup
ORGANIZER;CN="The Pack Indoor Dog Park":MAILTO:contact@thepackdogpark.com
END:VEVENT
BEGIN:VEVENT
DTSTART;TZID=America/New_York:20250818T183000
DTEND;TZID=America/New_York:20250818T200000
DTSTAMP:20260423T143533
CREATED:20250513T011558Z
LAST-MODIFIED:20250513T011558Z
UID:685-1755541800-1755547200@thepackdogpark.com
SUMMARY:Shepherds Breed Meetup
DESCRIPTION:Join us for a fun breed meetup! Dogs matching the breed can pay $10 or use a punch card / membership. All other breeds also welcome with a punch card / membership. All dogs must be registered with proof of required vaccinations. This meetup includes games and giveaways at 7pm
URL:https://thepackdogpark.com/event/shepherds-breed-meetup/
LOCATION:The Pack Indoor Dog Park\, 5205 West River Dr NE\, Comstock Park\, MI\, 49321
CATEGORIES:Breed Meetup
ORGANIZER;CN="The Pack Indoor Dog Park":MAILTO:contact@thepackdogpark.com
END:VEVENT
BEGIN:VEVENT
DTSTART;TZID=America/New_York:20250817T120000
DTEND;TZID=America/New_York:20250817T140000
DTSTAMP:20260423T143533
CREATED:20250513T011556Z
LAST-MODIFIED:20250513T011556Z
UID:684-1755432000-1755439200@thepackdogpark.com
SUMMARY:Goldendoodle Breed Meetup
DESCRIPTION:Join us for a fun breed meetup! Dogs matching the breed can pay $10 or use a punch card / membership. All other breeds also welcome with a punch card / membership. All dogs must be registered with proof of required vaccinations.
URL:https://thepackdogpark.com/event/goldendoodle-breed-meetup-4/
LOCATION:The Pack Indoor Dog Park\, 5205 West River Dr NE\, Comstock Park\, MI\, 49321
CATEGORIES:Breed Meetup
ORGANIZER;CN="The Pack Indoor Dog Park":MAILTO:contact@thepackdogpark.com
END:VEVENT
BEGIN:VEVENT
DTSTART;TZID=America/New_York:20250814T183000
DTEND;TZID=America/New_York:20250814T193000
DTSTAMP:20260423T143533
CREATED:20250529T201342Z
LAST-MODIFIED:20250529T201342Z
UID:713-1755196200-1755199800@thepackdogpark.com
SUMMARY:Trivia
DESCRIPTION:Join us every Thursday for Trivia with DnT Entertainent. Play solo or bring friends and play as a team. Gift card prizes to The Pack for 1st – 3rd place. Always free to play! Any dogs attending to play during trivia must be registered with a punch card or membership.
URL:https://thepackdogpark.com/event/trivia-12/
LOCATION:The Pack Indoor Dog Park\, 5205 West River Dr NE\, Comstock Park\, MI\, 49321
CATEGORIES:Breed Meetup
ORGANIZER;CN="The Pack Indoor Dog Park":MAILTO:contact@thepackdogpark.com
END:VEVENT
BEGIN:VEVENT
DTSTART;TZID=America/New_York:20250813T183000
DTEND;TZID=America/New_York:20250813T200000
DTSTAMP:20260423T143533
CREATED:20250513T011554Z
LAST-MODIFIED:20250513T011554Z
UID:683-1755109800-1755115200@thepackdogpark.com
SUMMARY:Bernese Mountain Dog Breed Meetup
DESCRIPTION:Join us for a fun breed meetup! Dogs matching the breed can pay $10 or use a punch card / membership. All other breeds also welcome with a punch card / membership. All dogs must be registered with proof of required vaccinations.
URL:https://thepackdogpark.com/event/bernese-mountain-dog-breed-meetup-3/
LOCATION:The Pack Indoor Dog Park\, 5205 West River Dr NE\, Comstock Park\, MI\, 49321
CATEGORIES:Breed Meetup
ORGANIZER;CN="The Pack Indoor Dog Park":MAILTO:contact@thepackdogpark.com
END:VEVENT
BEGIN:VEVENT
DTSTART;TZID=America/New_York:20250811T183000
DTEND;TZID=America/New_York:20250811T200000
DTSTAMP:20260423T143533
CREATED:20250513T011544Z
LAST-MODIFIED:20250513T011544Z
UID:682-1754937000-1754942400@thepackdogpark.com
SUMMARY:Working Breeds Breed Meetup
DESCRIPTION:Join us for a fun breed meetup! Dogs matching the breed can pay $10 or use a punch card / membership. All other breeds also welcome with a punch card / membership. All dogs must be registered with proof of required vaccinations.
URL:https://thepackdogpark.com/event/working-breeds-breed-meetup/
LOCATION:The Pack Indoor Dog Park\, 5205 West River Dr NE\, Comstock Park\, MI\, 49321
CATEGORIES:Breed Meetup
ORGANIZER;CN="The Pack Indoor Dog Park":MAILTO:contact@thepackdogpark.com
END:VEVENT
BEGIN:VEVENT
DTSTART;TZID=America/New_York:20250810T183000
DTEND;TZID=America/New_York:20250810T200000
DTSTAMP:20260423T143533
CREATED:20250513T011537Z
LAST-MODIFIED:20250513T011537Z
UID:681-1754850600-1754856000@thepackdogpark.com
SUMMARY:Corgi Breed Meetup
DESCRIPTION:Join us for a fun breed meetup! Dogs matching the breed can pay $10 or use a punch card / membership. All other breeds also welcome with a punch card / membership. All dogs must be registered with proof of required vaccinations.
URL:https://thepackdogpark.com/event/corgi-breed-meetup-3/
LOCATION:The Pack Indoor Dog Park\, 5205 West River Dr NE\, Comstock Park\, MI\, 49321
CATEGORIES:Breed Meetup
ORGANIZER;CN="The Pack Indoor Dog Park":MAILTO:contact@thepackdogpark.com
END:VEVENT
BEGIN:VEVENT
DTSTART;TZID=America/New_York:20250807T183000
DTEND;TZID=America/New_York:20250807T193000
DTSTAMP:20260423T143533
CREATED:20250529T201339Z
LAST-MODIFIED:20250529T201339Z
UID:712-1754591400-1754595000@thepackdogpark.com
SUMMARY:Trivia
DESCRIPTION:Join us every Thursday for Trivia with DnT Entertainent. Play solo or bring friends and play as a team. Gift card prizes to The Pack for 1st – 3rd place. Always free to play! Any dogs attending to play during trivia must be registered with a punch card or membership.
URL:https://thepackdogpark.com/event/trivia-11/
LOCATION:The Pack Indoor Dog Park\, 5205 West River Dr NE\, Comstock Park\, MI\, 49321
CATEGORIES:Breed Meetup
ORGANIZER;CN="The Pack Indoor Dog Park":MAILTO:contact@thepackdogpark.com
END:VEVENT
BEGIN:VEVENT
DTSTART;TZID=America/New_York:20250806T183000
DTEND;TZID=America/New_York:20250806T200000
DTSTAMP:20260423T143533
CREATED:20250513T011535Z
LAST-MODIFIED:20250513T011535Z
UID:680-1754505000-1754510400@thepackdogpark.com
SUMMARY:Labrador Retriever and Lab Mixes Breed Meetup
DESCRIPTION:Join us for a fun breed meetup! Dogs matching the breed can pay $10 or use a punch card / membership. All other breeds also welcome with a punch card / membership. All dogs must be registered with proof of required vaccinations. This meetup includes games and giveaways at 7pm
URL:https://thepackdogpark.com/event/labrador-retriever-and-lab-mixes-breed-meetup/
LOCATION:The Pack Indoor Dog Park\, 5205 West River Dr NE\, Comstock Park\, MI\, 49321
CATEGORIES:Breed Meetup
ORGANIZER;CN="The Pack Indoor Dog Park":MAILTO:contact@thepackdogpark.com
END:VEVENT
BEGIN:VEVENT
DTSTART;TZID=America/New_York:20250804T183000
DTEND;TZID=America/New_York:20250804T200000
DTSTAMP:20260423T143533
CREATED:20250513T011532Z
LAST-MODIFIED:20250513T011532Z
UID:679-1754332200-1754337600@thepackdogpark.com
SUMMARY:Doodle Breed Meetup
DESCRIPTION:Join us for a fun breed meetup! Dogs matching the breed can pay $10 or use a punch card / membership. All other breeds also welcome with a punch card / membership. All dogs must be registered with proof of required vaccinations.
URL:https://thepackdogpark.com/event/doodle-breed-meetup/
LOCATION:The Pack Indoor Dog Park\, 5205 West River Dr NE\, Comstock Park\, MI\, 49321
CATEGORIES:Breed Meetup
ORGANIZER;CN="The Pack Indoor Dog Park":MAILTO:contact@thepackdogpark.com
END:VEVENT
BEGIN:VEVENT
DTSTART;TZID=America/New_York:20250803T120000
DTEND;TZID=America/New_York:20250803T140000
DTSTAMP:20260423T143533
CREATED:20250513T011530Z
LAST-MODIFIED:20250513T011530Z
UID:678-1754222400-1754229600@thepackdogpark.com
SUMMARY:Golden Retriever Breed Meetup
DESCRIPTION:Join us for a fun breed meetup! Dogs matching the breed can pay $10 or use a punch card / membership. All other breeds also welcome with a punch card / membership. All dogs must be registered with proof of required vaccinations. This meetup includes games and giveaways at 1PM
URL:https://thepackdogpark.com/event/golden-retriever-breed-meetup-4/
LOCATION:The Pack Indoor Dog Park\, 5205 West River Dr NE\, Comstock Park\, MI\, 49321
CATEGORIES:Breed Meetup
ORGANIZER;CN="The Pack Indoor Dog Park":MAILTO:contact@thepackdogpark.com
END:VEVENT
BEGIN:VEVENT
DTSTART;TZID=America/New_York:20250731T183000
DTEND;TZID=America/New_York:20250731T193000
DTSTAMP:20260423T143533
CREATED:20250529T201337Z
LAST-MODIFIED:20250529T201337Z
UID:711-1753986600-1753990200@thepackdogpark.com
SUMMARY:Trivia
DESCRIPTION:Join us every Thursday for Trivia with DnT Entertainent. Play solo or bring friends and play as a team. Gift card prizes to The Pack for 1st – 3rd place. Always free to play! Any dogs attending to play during trivia must be registered with a punch card or membership.
URL:https://thepackdogpark.com/event/trivia-10/
LOCATION:The Pack Indoor Dog Park\, 5205 West River Dr NE\, Comstock Park\, MI\, 49321
CATEGORIES:Breed Meetup
ORGANIZER;CN="The Pack Indoor Dog Park":MAILTO:contact@thepackdogpark.com
END:VEVENT
BEGIN:VEVENT
DTSTART;TZID=America/New_York:20250730T183000
DTEND;TZID=America/New_York:20250730T200000
DTSTAMP:20260423T143533
CREATED:20250513T011529Z
LAST-MODIFIED:20250513T011529Z
UID:677-1753900200-1753905600@thepackdogpark.com
SUMMARY:Small Dogs Breed Meetup
DESCRIPTION:Join us for a fun breed meetup! Dogs matching the breed can pay $10 or use a punch card / membership. All other breeds also welcome with a punch card / membership. All dogs must be registered with proof of required vaccinations.
URL:https://thepackdogpark.com/event/small-dogs-breed-meetup/
LOCATION:The Pack Indoor Dog Park\, 5205 West River Dr NE\, Comstock Park\, MI\, 49321
CATEGORIES:Breed Meetup
ORGANIZER;CN="The Pack Indoor Dog Park":MAILTO:contact@thepackdogpark.com
END:VEVENT
BEGIN:VEVENT
DTSTART;TZID=America/New_York:20250728T183000
DTEND;TZID=America/New_York:20250728T200000
DTSTAMP:20260423T143533
CREATED:20250513T011524Z
LAST-MODIFIED:20250513T011524Z
UID:676-1753727400-1753732800@thepackdogpark.com
SUMMARY:Puppies (under 1 year) Breed Meetup
DESCRIPTION:Join us for a fun breed meetup! Dogs matching the breed can pay $10 or use a punch card / membership. All other breeds also welcome with a punch card / membership. All dogs must be registered with proof of required vaccinations. This meetup includes games and giveaways at 7pm
URL:https://thepackdogpark.com/event/puppies-under-1-year-breed-meetup/
LOCATION:The Pack Indoor Dog Park\, 5205 West River Dr NE\, Comstock Park\, MI\, 49321
CATEGORIES:Breed Meetup
ORGANIZER;CN="The Pack Indoor Dog Park":MAILTO:contact@thepackdogpark.com
END:VEVENT
BEGIN:VEVENT
DTSTART;TZID=America/New_York:20250727T120000
DTEND;TZID=America/New_York:20250727T140000
DTSTAMP:20260423T143533
CREATED:20250513T011522Z
LAST-MODIFIED:20250513T011522Z
UID:675-1753617600-1753624800@thepackdogpark.com
SUMMARY:Pointers Breed Meetup
DESCRIPTION:Join us for a fun breed meetup! Dogs matching the breed can pay $10 or use a punch card / membership. All other breeds also welcome with a punch card / membership. All dogs must be registered with proof of required vaccinations.
URL:https://thepackdogpark.com/event/pointers-breed-meetup/
LOCATION:The Pack Indoor Dog Park\, 5205 West River Dr NE\, Comstock Park\, MI\, 49321
CATEGORIES:Breed Meetup
ORGANIZER;CN="The Pack Indoor Dog Park":MAILTO:contact@thepackdogpark.com
END:VEVENT
BEGIN:VEVENT
DTSTART;TZID=UTC:20250725T183000
DTEND;TZID=UTC:20250725T210000
DTSTAMP:20260423T143533
CREATED:20250702T183534Z
LAST-MODIFIED:20250702T183534Z
UID:730-1753468200-1753477200@thepackdogpark.com
SUMMARY:Paint Your Pet with Megan - July
DESCRIPTION:Join us for a fun event painting a special portrait on canvas of your beloved pet. After purchasing your ticket\, you’ll upload a photo of the pet you want to paint. Artist\, Megan will prep your canvas in a style that makes it easy for anyone to create a masterpiece so you’re sure to walk away with a wonderful piece of art! Tickets must be purchased ahead: thepackdogpark.square.site \nIf dogs would like to play while you participate in the event\, they must be registered with proof of required vaccinations and a membership / punch card.
URL:https://thepackdogpark.com/event/paint-your-pet-with-megan-july/
LOCATION:The Pack Indoor Dog Park\, 5205 West River Dr NE\, Comstock Park\, MI\, 49321
ORGANIZER;CN="The Pack Indoor Dog Park":MAILTO:contact@thepackdogpark.com
END:VEVENT
BEGIN:VEVENT
DTSTART;TZID=America/New_York:20250724T183000
DTEND;TZID=America/New_York:20250724T193000
DTSTAMP:20260423T143533
CREATED:20250529T201319Z
LAST-MODIFIED:20250529T201333Z
UID:705-1753381800-1753385400@thepackdogpark.com
SUMMARY:Trivia
DESCRIPTION:Join us every Thursday for Trivia with DnT Entertainent. Play solo or bring friends and play as a team. Gift card prizes to The Pack for 1st – 3rd place. Always free to play! Any dogs attending to play during trivia must be registered with a punch card or membership.
URL:https://thepackdogpark.com/event/trivia-9/
LOCATION:The Pack Indoor Dog Park\, 5205 West River Dr NE\, Comstock Park\, MI\, 49321
CATEGORIES:Breed Meetup
ORGANIZER;CN="The Pack Indoor Dog Park":MAILTO:contact@thepackdogpark.com
END:VEVENT
BEGIN:VEVENT
DTSTART;TZID=America/New_York:20250723T183000
DTEND;TZID=America/New_York:20250723T200000
DTSTAMP:20260423T143533
CREATED:20250513T011519Z
LAST-MODIFIED:20250513T011519Z
UID:674-1753295400-1753300800@thepackdogpark.com
SUMMARY:Spotted Dogs Breed Meetup
DESCRIPTION:Join us for a fun breed meetup! Dogs matching the breed can pay $10 or use a punch card / membership. All other breeds also welcome with a punch card / membership. All dogs must be registered with proof of required vaccinations.
URL:https://thepackdogpark.com/event/spotted-dogs-breed-meetup/
LOCATION:The Pack Indoor Dog Park\, 5205 West River Dr NE\, Comstock Park\, MI\, 49321
CATEGORIES:Breed Meetup
ORGANIZER;CN="The Pack Indoor Dog Park":MAILTO:contact@thepackdogpark.com
END:VEVENT
BEGIN:VEVENT
DTSTART;TZID=America/New_York:20250721T183000
DTEND;TZID=America/New_York:20250721T200000
DTSTAMP:20260423T143533
CREATED:20250513T011514Z
LAST-MODIFIED:20250513T011514Z
UID:673-1753122600-1753128000@thepackdogpark.com
SUMMARY:Snow Dogs Breed Meetup
DESCRIPTION:Join us for a fun breed meetup! Dogs matching the breed can pay $10 or use a punch card / membership. All other breeds also welcome with a punch card / membership. All dogs must be registered with proof of required vaccinations. This meetup includes games and giveaways at 7pm
URL:https://thepackdogpark.com/event/snow-dogs-breed-meetup/
LOCATION:The Pack Indoor Dog Park\, 5205 West River Dr NE\, Comstock Park\, MI\, 49321
CATEGORIES:Breed Meetup
ORGANIZER;CN="The Pack Indoor Dog Park":MAILTO:contact@thepackdogpark.com
END:VEVENT
BEGIN:VEVENT
DTSTART;TZID=America/New_York:20250720T120000
DTEND;TZID=America/New_York:20250720T140000
DTSTAMP:20260423T143533
CREATED:20250513T011512Z
LAST-MODIFIED:20250513T011512Z
UID:672-1753012800-1753020000@thepackdogpark.com
SUMMARY:Large Breed (70+lb) Breed Meetup
DESCRIPTION:Join us for a fun breed meetup! Dogs matching the breed can pay $10 or use a punch card / membership. All other breeds also welcome with a punch card / membership. All dogs must be registered with proof of required vaccinations.
URL:https://thepackdogpark.com/event/large-breed-70lb-breed-meetup/
LOCATION:The Pack Indoor Dog Park\, 5205 West River Dr NE\, Comstock Park\, MI\, 49321
CATEGORIES:Breed Meetup
ORGANIZER;CN="The Pack Indoor Dog Park":MAILTO:contact@thepackdogpark.com
END:VEVENT
END:VCALENDAR