BEGIN:VCALENDAR
VERSION:2.0
PRODID:-//The Pack Indoor Dog Park - ECPv6.15.20//NONSGML v1.0//EN
CALSCALE:GREGORIAN
METHOD:PUBLISH
X-WR-CALNAME:The Pack Indoor Dog Park
X-ORIGINAL-URL:https://thepackdogpark.com
X-WR-CALDESC:Events for The Pack Indoor Dog Park
REFRESH-INTERVAL;VALUE=DURATION:PT1H
X-Robots-Tag:noindex
X-PUBLISHED-TTL:PT1H
BEGIN:VTIMEZONE
TZID:UTC
BEGIN:STANDARD
TZOFFSETFROM:+0000
TZOFFSETTO:+0000
TZNAME:UTC
DTSTART:20220101T000000
END:STANDARD
END:VTIMEZONE
BEGIN:VEVENT
DTSTART;TZID=UTC:20230502T180000
DTEND;TZID=UTC:20230502T200000
DTSTAMP:20260425T160144
CREATED:20230427T183911Z
LAST-MODIFIED:20230427T183911Z
UID:305-1683050400-1683057600@thepackdogpark.com
SUMMARY:Breed Meetup: Goldendoodles
DESCRIPTION:Calling all Golden Doodles! All dogs must be registered with proof of required vaccinations. Dogs without membership can attend for $10. Group photo taken at 7pm.
URL:https://thepackdogpark.com/event/breed-meetup-goldendoodles/
LOCATION:The Pack Indoor Dog Park\, 5205 West River Dr NE\, Comstock Park\, MI\, 49321
ORGANIZER;CN="The Pack Indoor Dog Park":MAILTO:contact@thepackdogpark.com
END:VEVENT
BEGIN:VEVENT
DTSTART;TZID=UTC:20230501T180000
DTEND;TZID=UTC:20230501T200000
DTSTAMP:20260425T160144
CREATED:20230427T183730Z
LAST-MODIFIED:20230427T183730Z
UID:303-1682964000-1682971200@thepackdogpark.com
SUMMARY:Breed Meetup: Golden Retrievers
DESCRIPTION:Calling all Goldens! All dogs must be registered with proof of required vaccinations. Dogs without membership can attend for $10. Group photo taken at 7pm.
URL:https://thepackdogpark.com/event/breed-meetup-golden-retrievers/
LOCATION:The Pack Indoor Dog Park\, 5205 West River Dr NE\, Comstock Park\, MI\, 49321
ORGANIZER;CN="The Pack Indoor Dog Park":MAILTO:contact@thepackdogpark.com
END:VEVENT
BEGIN:VEVENT
DTSTART;TZID=UTC:20230427T183000
DTEND;TZID=UTC:20230427T193000
DTSTAMP:20260425T160144
CREATED:20230427T183335Z
LAST-MODIFIED:20230427T183335Z
UID:299-1682620200-1682623800@thepackdogpark.com
SUMMARY:Trivia with DnT Trivia Entertainment
DESCRIPTION:Come with or without a dog. Dogs attending must be registered with memberships. People can play on their own or come with a team. Gift card prizes for 1st\, 2nd\, and 3rd place.
URL:https://thepackdogpark.com/event/trivia-with-dnt-trivia-entertainment/
LOCATION:The Pack Indoor Dog Park\, 5205 West River Dr NE\, Comstock Park\, MI\, 49321
ORGANIZER;CN="The Pack Indoor Dog Park":MAILTO:contact@thepackdogpark.com
END:VEVENT
END:VCALENDAR