BEGIN:VCALENDAR
VERSION:2.0
PRODID:-//The Pack Indoor Dog Park - ECPv6.15.20//NONSGML v1.0//EN
CALSCALE:GREGORIAN
METHOD:PUBLISH
X-WR-CALNAME:The Pack Indoor Dog Park
X-ORIGINAL-URL:https://thepackdogpark.com
X-WR-CALDESC:Events for The Pack Indoor Dog Park
REFRESH-INTERVAL;VALUE=DURATION:PT1H
X-Robots-Tag:noindex
X-PUBLISHED-TTL:PT1H
BEGIN:VTIMEZONE
TZID:UTC
BEGIN:STANDARD
TZOFFSETFROM:+0000
TZOFFSETTO:+0000
TZNAME:UTC
DTSTART:20240101T000000
END:STANDARD
END:VTIMEZONE
BEGIN:VEVENT
DTSTART;TZID=UTC:20250130T183000
DTEND;TZID=UTC:20250130T193000
DTSTAMP:20260425T164656
CREATED:20241126T194607Z
LAST-MODIFIED:20241126T194607Z
UID:614-1738261800-1738265400@thepackdogpark.com
SUMMARY:Trivia with DnT Entertainment
DESCRIPTION:Gift card prizes! Free to play. No reservation required. Play solo or bring friends. No dog required to come in and play. Dogs playing during trivia must be registered with proof of required vaccinations and a punch card or membership.
URL:https://thepackdogpark.com/event/trivia-with-dnt-entertainment-18/
LOCATION:The Pack Indoor Dog Park\, 5205 West River Dr NE\, Comstock Park\, MI\, 49321
CATEGORIES:Trivia
ORGANIZER;CN="The Pack Indoor Dog Park":MAILTO:contact@thepackdogpark.com
END:VEVENT
BEGIN:VEVENT
DTSTART;TZID=UTC:20250130T183000
DTEND;TZID=UTC:20250130T193000
DTSTAMP:20260425T164656
CREATED:20241126T194718Z
LAST-MODIFIED:20241126T194758Z
UID:616-1738261800-1738265400@thepackdogpark.com
SUMMARY:Trivia with DnT Entertainment
DESCRIPTION:Gift card prizes! Free to play. No reservation required. Play solo or bring friends. No dog required to come in and play. Dogs playing during trivia must be registered with proof of required vaccinations and a punch card or membership.
URL:https://thepackdogpark.com/event/trivia-with-dnt-entertainment-19/
LOCATION:The Pack Indoor Dog Park\, 5205 West River Dr NE\, Comstock Park\, MI\, 49321
CATEGORIES:Trivia
ORGANIZER;CN="The Pack Indoor Dog Park":MAILTO:contact@thepackdogpark.com
END:VEVENT
BEGIN:VEVENT
DTSTART;TZID=UTC:20250206T183000
DTEND;TZID=UTC:20250206T193000
DTSTAMP:20260425T164656
CREATED:20241126T194928Z
LAST-MODIFIED:20241126T194928Z
UID:618-1738866600-1738870200@thepackdogpark.com
SUMMARY:Trivia with DnT Entertainment
DESCRIPTION:Gift card prizes! Free to play. No reservation required. Play solo or bring friends. No dog required to come in and play. Dogs playing during trivia must be registered with proof of required vaccinations and a punch card or membership.
URL:https://thepackdogpark.com/event/trivia-with-dnt-entertainment-20/
LOCATION:The Pack Indoor Dog Park\, 5205 West River Dr NE\, Comstock Park\, MI\, 49321
CATEGORIES:Trivia
ORGANIZER;CN="The Pack Indoor Dog Park":MAILTO:contact@thepackdogpark.com
END:VEVENT
END:VCALENDAR