BEGIN:VCALENDAR
VERSION:2.0
PRODID:-//The Pack Indoor Dog Park - ECPv6.15.20//NONSGML v1.0//EN
CALSCALE:GREGORIAN
METHOD:PUBLISH
X-WR-CALNAME:The Pack Indoor Dog Park
X-ORIGINAL-URL:https://thepackdogpark.com
X-WR-CALDESC:Events for The Pack Indoor Dog Park
REFRESH-INTERVAL;VALUE=DURATION:PT1H
X-Robots-Tag:noindex
X-PUBLISHED-TTL:PT1H
BEGIN:VTIMEZONE
TZID:UTC
BEGIN:STANDARD
TZOFFSETFROM:+0000
TZOFFSETTO:+0000
TZNAME:UTC
DTSTART:20220101T000000
END:STANDARD
END:VTIMEZONE
BEGIN:VEVENT
DTSTART;TZID=UTC:20231207T183000
DTEND;TZID=UTC:20231207T193000
DTSTAMP:20260425T163225
CREATED:20231130T202542Z
LAST-MODIFIED:20231130T203229Z
UID:457-1701973800-1701977400@thepackdogpark.com
SUMMARY:Trivia with DnT Trivia Entertainment
DESCRIPTION:Join us for Trivia every Thursday from 6:30-7:30pm. All skill levels welcome. Play on your own or as a team! Always free to play. Pack gift card prizes for 1st-3rd place winners. No reservation needed. Come for a great time!
URL:https://thepackdogpark.com/event/trivia-with-dnt-trivia-entertainment-3/
LOCATION:The Pack Indoor Dog Park\, 5205 West River Dr NE\, Comstock Park\, MI\, 49321
CATEGORIES:Trivia
ORGANIZER;CN="The Pack Indoor Dog Park":MAILTO:contact@thepackdogpark.com
END:VEVENT
BEGIN:VEVENT
DTSTART;TZID=UTC:20231214T183000
DTEND;TZID=UTC:20231214T193000
DTSTAMP:20260425T163225
CREATED:20231130T203312Z
LAST-MODIFIED:20231130T203312Z
UID:459-1702578600-1702582200@thepackdogpark.com
SUMMARY:Trivia with DnT Trivia Entertainment
DESCRIPTION:Join us for Trivia every Thursday from 6:30-7:30pm. All skill levels welcome. Play on your own or as a team! Always free to play. Pack gift card prizes for 1st-3rd place winners. No reservation needed. Come for a great time!
URL:https://thepackdogpark.com/event/trivia-with-dnt-trivia-entertainment-4/
LOCATION:The Pack Indoor Dog Park\, 5205 West River Dr NE\, Comstock Park\, MI\, 49321
CATEGORIES:Trivia
ORGANIZER;CN="The Pack Indoor Dog Park":MAILTO:contact@thepackdogpark.com
END:VEVENT
BEGIN:VEVENT
DTSTART;TZID=UTC:20231221T183000
DTEND;TZID=UTC:20231221T193000
DTSTAMP:20260425T163225
CREATED:20231130T203357Z
LAST-MODIFIED:20231130T203357Z
UID:461-1703183400-1703187000@thepackdogpark.com
SUMMARY:Trivia with DnT Trivia Entertainment
DESCRIPTION:Join us for Trivia every Thursday from 6:30-7:30pm. All skill levels welcome. Play on your own or as a team! Always free to play. Pack gift card prizes for 1st-3rd place winners. No reservation needed. Come for a great time!
URL:https://thepackdogpark.com/event/trivia-with-dnt-trivia-entertainment-5/
LOCATION:The Pack Indoor Dog Park\, 5205 West River Dr NE\, Comstock Park\, MI\, 49321
CATEGORIES:Trivia
ORGANIZER;CN="The Pack Indoor Dog Park":MAILTO:contact@thepackdogpark.com
END:VEVENT
END:VCALENDAR