BEGIN:VCALENDAR
VERSION:2.0
PRODID:-//The Pack Indoor Dog Park - ECPv6.15.20//NONSGML v1.0//EN
CALSCALE:GREGORIAN
METHOD:PUBLISH
X-ORIGINAL-URL:https://thepackdogpark.com
X-WR-CALDESC:Events for The Pack Indoor Dog Park
REFRESH-INTERVAL;VALUE=DURATION:PT1H
X-Robots-Tag:noindex
X-PUBLISHED-TTL:PT1H
BEGIN:VTIMEZONE
TZID:UTC
BEGIN:STANDARD
TZOFFSETFROM:+0000
TZOFFSETTO:+0000
TZNAME:UTC
DTSTART:20250101T000000
END:STANDARD
END:VTIMEZONE
BEGIN:VEVENT
DTSTART;TZID=UTC:20260214T120000
DTEND;TZID=UTC:20260214T140000
DTSTAMP:20260423T222356
CREATED:20260119T212852Z
LAST-MODIFIED:20260119T212852Z
UID:775-1771070400-1771077600@thepackdogpark.com
SUMMARY:Valentines Brunch
DESCRIPTION:$14 adults; $7 10 and under; 4 and under eats free\nBrunch includes:Build your own Belgian waffle bar with fruit\, homemade veggie quiche\, bacon\, and sausage\nPhotobooth setup for selfies with your pup\nExtras:Drinks: Bloody mary bar and mimosa bar\, coffee (& baileys)\, juice\, and pop\nBuild your dog a Toppl enrichment toy “buffet” to freeze and enjoy at home\nWhile supplies last at event. Reservation RECOMMENDED. Message on socials or email to let us know you’re coming: contact@thepackdogpark.com
URL:https://thepackdogpark.com/event/valentines-brunch/
LOCATION:The Pack Indoor Dog Park\, 5205 West River Dr NE\, Comstock Park\, MI\, 49321
CATEGORIES:Holiday Party
ORGANIZER;CN="The Pack Indoor Dog Park":MAILTO:contact@thepackdogpark.com
END:VEVENT
END:VCALENDAR