BEGIN:VCALENDAR
VERSION:2.0
PRODID:-//The Pack Indoor Dog Park - ECPv6.15.20//NONSGML v1.0//EN
CALSCALE:GREGORIAN
METHOD:PUBLISH
X-WR-CALNAME:The Pack Indoor Dog Park
X-ORIGINAL-URL:https://thepackdogpark.com
X-WR-CALDESC:Events for The Pack Indoor Dog Park
REFRESH-INTERVAL;VALUE=DURATION:PT1H
X-Robots-Tag:noindex
X-PUBLISHED-TTL:PT1H
BEGIN:VTIMEZONE
TZID:UTC
BEGIN:STANDARD
TZOFFSETFROM:+0000
TZOFFSETTO:+0000
TZNAME:UTC
DTSTART:20220101T000000
END:STANDARD
END:VTIMEZONE
BEGIN:VEVENT
DTSTART;TZID=UTC:20231027T190000
DTEND;TZID=UTC:20231027T210000
DTSTAMP:20260425T134810
CREATED:20230828T161804Z
LAST-MODIFIED:20230904T131955Z
UID:432-1698433200-1698440400@thepackdogpark.com
SUMMARY:Howl-een Party at The Pack
DESCRIPTION:Join us for an all ages friendly\, on leash costume contest starting right at 7pm. We will have prizes for several categories. After the costume contest\, we will be back off leash for play\, photo ops\, spooky music\, boo brews\, and enchanting elixers!
URL:https://thepackdogpark.com/event/howl-een-party-at-the-pack/
LOCATION:The Pack Indoor Dog Park\, 5205 West River Dr NE\, Comstock Park\, MI\, 49321
CATEGORIES:Holiday Party
ATTACH;FMTTYPE=image/png:https://thepackdogpark.com/wp-content/uploads/2023/08/HALLOWEEN.png
ORGANIZER;CN="The Pack Indoor Dog Park":MAILTO:contact@thepackdogpark.com
END:VEVENT
END:VCALENDAR