BEGIN:VCALENDAR
VERSION:2.0
PRODID:-//The Pack Indoor Dog Park - ECPv6.15.20//NONSGML v1.0//EN
CALSCALE:GREGORIAN
METHOD:PUBLISH
X-WR-CALNAME:The Pack Indoor Dog Park
X-ORIGINAL-URL:https://thepackdogpark.com
X-WR-CALDESC:Events for The Pack Indoor Dog Park
REFRESH-INTERVAL;VALUE=DURATION:PT1H
X-Robots-Tag:noindex
X-PUBLISHED-TTL:PT1H
BEGIN:VTIMEZONE
TZID:UTC
BEGIN:STANDARD
TZOFFSETFROM:+0000
TZOFFSETTO:+0000
TZNAME:UTC
DTSTART:20240101T000000
END:STANDARD
END:VTIMEZONE
BEGIN:VEVENT
DTSTART;TZID=UTC:20250719T160000
DTEND;TZID=UTC:20250719T190000
DTSTAMP:20260424T104930
CREATED:20250702T184832Z
LAST-MODIFIED:20250702T184832Z
UID:732-1752940800-1752951600@thepackdogpark.com
SUMMARY:Splash\, Suds\, & Spirits
DESCRIPTION:We’re hosting Spirit Hound Distillery for a fun foam and pool party! The patio bar will be open\, the pool out\, and the foam machine running! No reservations required. No cover for humans; $10 for dogs or use a membership / punch card to come join in the fun. All dogs must be registered with proof of required vaccinations.
URL:https://thepackdogpark.com/event/splash-suds-spirits/
LOCATION:The Pack Indoor Dog Park\, 5205 West River Dr NE\, Comstock Park\, MI\, 49321
CATEGORIES:Food and Drink
ATTACH;FMTTYPE=image/png:https://thepackdogpark.com/wp-content/uploads/2025/07/Splash-Suds-Spirits.png
ORGANIZER;CN="The Pack Indoor Dog Park":MAILTO:contact@thepackdogpark.com
END:VEVENT
END:VCALENDAR