BEGIN:VCALENDAR
VERSION:2.0
PRODID:-//The Pack Indoor Dog Park - ECPv6.15.20//NONSGML v1.0//EN
CALSCALE:GREGORIAN
METHOD:PUBLISH
X-ORIGINAL-URL:https://thepackdogpark.com
X-WR-CALDESC:Events for The Pack Indoor Dog Park
REFRESH-INTERVAL;VALUE=DURATION:PT1H
X-Robots-Tag:noindex
X-PUBLISHED-TTL:PT1H
BEGIN:VTIMEZONE
TZID:UTC
BEGIN:STANDARD
TZOFFSETFROM:+0000
TZOFFSETTO:+0000
TZNAME:UTC
DTSTART:20230101T000000
END:STANDARD
END:VTIMEZONE
BEGIN:VEVENT
DTSTART;TZID=UTC:20240315T110000
DTEND;TZID=UTC:20240315T140000
DTSTAMP:20260425T163843
CREATED:20240313T132912Z
LAST-MODIFIED:20240313T132912Z
UID:481-1710500400-1710511200@thepackdogpark.com
SUMMARY:St. Patrick's Day Daycare/Dog Park Add On
DESCRIPTION:Your dog can participate in a treasure hunt\, printed photo\, and bandana to bring home. Sign up required. Space is limited. Email or sign up in person. contact@thepackdogpark.com
URL:https://thepackdogpark.com/event/st-patricks-day-daycare-dog-park-add-on/
LOCATION:The Pack Indoor Dog Park\, 5205 West River Dr NE\, Comstock Park\, MI\, 49321
CATEGORIES:Dog Add On
ATTACH;FMTTYPE=image/png:https://thepackdogpark.com/wp-content/uploads/2024/03/St-Patricks-Day-1.png
ORGANIZER;CN="The Pack Indoor Dog Park":MAILTO:contact@thepackdogpark.com
END:VEVENT
END:VCALENDAR