BEGIN:VCALENDAR
VERSION:2.0
PRODID:-//The Pack Indoor Dog Park - ECPv6.15.20//NONSGML v1.0//EN
CALSCALE:GREGORIAN
METHOD:PUBLISH
X-WR-CALNAME:The Pack Indoor Dog Park
X-ORIGINAL-URL:https://thepackdogpark.com
X-WR-CALDESC:Events for The Pack Indoor Dog Park
REFRESH-INTERVAL;VALUE=DURATION:PT1H
X-Robots-Tag:noindex
X-PUBLISHED-TTL:PT1H
BEGIN:VTIMEZONE
TZID:America/Halifax
BEGIN:DAYLIGHT
TZOFFSETFROM:-0400
TZOFFSETTO:-0300
TZNAME:ADT
DTSTART:20220313T060000
END:DAYLIGHT
BEGIN:STANDARD
TZOFFSETFROM:-0300
TZOFFSETTO:-0400
TZNAME:AST
DTSTART:20221106T050000
END:STANDARD
BEGIN:DAYLIGHT
TZOFFSETFROM:-0400
TZOFFSETTO:-0300
TZNAME:ADT
DTSTART:20230312T060000
END:DAYLIGHT
BEGIN:STANDARD
TZOFFSETFROM:-0300
TZOFFSETTO:-0400
TZNAME:AST
DTSTART:20231105T050000
END:STANDARD
BEGIN:DAYLIGHT
TZOFFSETFROM:-0400
TZOFFSETTO:-0300
TZNAME:ADT
DTSTART:20240310T060000
END:DAYLIGHT
BEGIN:STANDARD
TZOFFSETFROM:-0300
TZOFFSETTO:-0400
TZNAME:AST
DTSTART:20241103T050000
END:STANDARD
END:VTIMEZONE
BEGIN:VTIMEZONE
TZID:UTC
BEGIN:STANDARD
TZOFFSETFROM:+0000
TZOFFSETTO:+0000
TZNAME:UTC
DTSTART:20220101T000000
END:STANDARD
END:VTIMEZONE
BEGIN:VEVENT
DTSTART;TZID=America/Halifax:20230619T180000
DTEND;TZID=America/Halifax:20230619T200000
DTSTAMP:20260424T034202
CREATED:20230522T223742Z
LAST-MODIFIED:20230522T223742Z
UID:360-1687197600-1687204800@thepackdogpark.com
SUMMARY:Breed Meetup: Bernedoodles
DESCRIPTION:Calling all Bernedoodles! All dogs must be registered with proof of required vaccinations. Bernedoodles without membership can attend for $10. Group photo taken at 7pm.
URL:https://thepackdogpark.com/event/breed-meetup-bernedoodles/
LOCATION:The Pack Indoor Dog Park\, 5205 West River Dr NE\, Comstock Park\, MI\, 49321
CATEGORIES:Breed Meetup
ORGANIZER;CN="The Pack Indoor Dog Park":MAILTO:contact@thepackdogpark.com
END:VEVENT
BEGIN:VEVENT
DTSTART;TZID=America/Halifax:20230614T180000
DTEND;TZID=America/Halifax:20230614T200000
DTSTAMP:20260424T034202
CREATED:20230522T223602Z
LAST-MODIFIED:20230522T223602Z
UID:358-1686765600-1686772800@thepackdogpark.com
SUMMARY:Breed Meetup: Goldendoodles
DESCRIPTION:Calling all Goldendoodles! All dogs must be registered with proof of required vaccinations. Goldendoodles without membership can attend for $10. Group photo taken at 7pm.
URL:https://thepackdogpark.com/event/breed-meetup-goldendoodles-2/
LOCATION:The Pack Indoor Dog Park\, 5205 West River Dr NE\, Comstock Park\, MI\, 49321
CATEGORIES:Breed Meetup
ORGANIZER;CN="The Pack Indoor Dog Park":MAILTO:contact@thepackdogpark.com
END:VEVENT
BEGIN:VEVENT
DTSTART;TZID=America/Halifax:20230613T180000
DTEND;TZID=America/Halifax:20230613T200000
DTSTAMP:20260424T034202
CREATED:20230522T223323Z
LAST-MODIFIED:20230522T223323Z
UID:356-1686679200-1686686400@thepackdogpark.com
SUMMARY:Breed Meetup: Hounds
DESCRIPTION:Calling all Hounds! All dogs must be registered with proof of required vaccinations. Hounds without membership can attend for $10. Group photo taken at 7pm.
URL:https://thepackdogpark.com/event/breed-meetup-hounds/
LOCATION:The Pack Indoor Dog Park\, 5205 West River Dr NE\, Comstock Park\, MI\, 49321
CATEGORIES:Breed Meetup
ORGANIZER;CN="The Pack Indoor Dog Park":MAILTO:contact@thepackdogpark.com
END:VEVENT
BEGIN:VEVENT
DTSTART;TZID=America/Halifax:20230612T180000
DTEND;TZID=America/Halifax:20230612T200000
DTSTAMP:20260424T034202
CREATED:20230522T223213Z
LAST-MODIFIED:20230522T223213Z
UID:354-1686592800-1686600000@thepackdogpark.com
SUMMARY:Breed Meetup: Giant Breeds
DESCRIPTION:Calling all Great Danes\, Cane Corsos\, Mastiffs\, Newfoundlands\, and more! All dogs must be registered with proof of required vaccinations. Giant Breeds without membership can attend for $10. Group photo taken at 7pm.
URL:https://thepackdogpark.com/event/breed-meetup-giant-breeds/
LOCATION:The Pack Indoor Dog Park\, 5205 West River Dr NE\, Comstock Park\, MI\, 49321
CATEGORIES:Breed Meetup
ORGANIZER;CN="The Pack Indoor Dog Park":MAILTO:contact@thepackdogpark.com
END:VEVENT
BEGIN:VEVENT
DTSTART;TZID=America/Halifax:20230607T180000
DTEND;TZID=America/Halifax:20230607T200000
DTSTAMP:20260424T034202
CREATED:20230522T223005Z
LAST-MODIFIED:20230522T223005Z
UID:352-1686160800-1686168000@thepackdogpark.com
SUMMARY:Breed Meetup: Spaniels
DESCRIPTION:Calling all Spaniels! All dogs must be registered with proof of required vaccinations. Spaniels without membership can attend for $10. Group photo taken at 7pm.
URL:https://thepackdogpark.com/event/breed-meetup-spaniels/
LOCATION:The Pack Indoor Dog Park\, 5205 West River Dr NE\, Comstock Park\, MI\, 49321
CATEGORIES:Breed Meetup
ORGANIZER;CN="The Pack Indoor Dog Park":MAILTO:contact@thepackdogpark.com
END:VEVENT
BEGIN:VEVENT
DTSTART;TZID=UTC:20230606T180000
DTEND;TZID=UTC:20230606T200000
DTSTAMP:20260424T034202
CREATED:20230522T222831Z
LAST-MODIFIED:20230522T222831Z
UID:350-1686074400-1686081600@thepackdogpark.com
SUMMARY:Breed Meetup: Goldens
DESCRIPTION:Calling all Goldens! All dogs must be registered with proof of required vaccinations. Goldens without membership can attend for $10. Group photo taken at 7pm.
URL:https://thepackdogpark.com/event/breed-meetup-goldens/
LOCATION:The Pack Indoor Dog Park\, 5205 West River Dr NE\, Comstock Park\, MI\, 49321
CATEGORIES:Breed Meetup
ORGANIZER;CN="The Pack Indoor Dog Park":MAILTO:contact@thepackdogpark.com
END:VEVENT
BEGIN:VEVENT
DTSTART;TZID=America/Halifax:20230605T180000
DTEND;TZID=America/Halifax:20230605T200000
DTSTAMP:20260424T034202
CREATED:20230522T222703Z
LAST-MODIFIED:20230522T222703Z
UID:348-1685988000-1685995200@thepackdogpark.com
SUMMARY:Breed Meetup: Frenchies
DESCRIPTION:Calling all Frenchies! All dogs must be registered with proof of required vaccinations. Frenchies without membership can attend for $10. Group photo taken at 7pm.
URL:https://thepackdogpark.com/event/breed-meetup-frenchies/
LOCATION:The Pack Indoor Dog Park\, 5205 West River Dr NE\, Comstock Park\, MI\, 49321
CATEGORIES:Breed Meetup
ORGANIZER;CN="The Pack Indoor Dog Park":MAILTO:contact@thepackdogpark.com
END:VEVENT
BEGIN:VEVENT
DTSTART;TZID=America/Halifax:20230531T180000
DTEND;TZID=America/Halifax:20230531T200000
DTSTAMP:20260424T034202
CREATED:20230522T222606Z
LAST-MODIFIED:20230522T222606Z
UID:346-1685556000-1685563200@thepackdogpark.com
SUMMARY:Breed Meeetup: Bernese Mountain Dogs
DESCRIPTION:Calling all Bernese Mountain Dogs! All dogs must be registered with proof of required vaccinations. Bernese Mountain Dogs without membership can attend for $10. Group photo taken at 7pm.
URL:https://thepackdogpark.com/event/breed-meeetup-bernese-mountain-dogs/
LOCATION:The Pack Indoor Dog Park\, 5205 West River Dr NE\, Comstock Park\, MI\, 49321
CATEGORIES:Breed Meetup
ORGANIZER;CN="The Pack Indoor Dog Park":MAILTO:contact@thepackdogpark.com
END:VEVENT
BEGIN:VEVENT
DTSTART;TZID=America/Halifax:20230524T180000
DTEND;TZID=America/Halifax:20230524T200000
DTSTAMP:20260424T034202
CREATED:20230522T222239Z
LAST-MODIFIED:20230522T222239Z
UID:342-1684951200-1684958400@thepackdogpark.com
SUMMARY:Breed Meetup: Collies
DESCRIPTION:Calling all Collies! All dogs must be registered with proof of required vaccinations. Collies without membership can attend for $10. Group photo taken at 7pm.
URL:https://thepackdogpark.com/event/breed-meetup-collies/
LOCATION:Michigan
CATEGORIES:Breed Meetup
ORGANIZER;CN="The Pack Indoor Dog Park":MAILTO:contact@thepackdogpark.com
END:VEVENT
BEGIN:VEVENT
DTSTART;TZID=UTC:20230523T180000
DTEND;TZID=UTC:20230523T200000
DTSTAMP:20260424T034202
CREATED:20230427T200044Z
LAST-MODIFIED:20230427T200044Z
UID:333-1684864800-1684872000@thepackdogpark.com
SUMMARY:Breed Meetup: Corgis
DESCRIPTION:Calling all Corgis! All dogs must be registered with proof of required vaccinations. Corgis without membership can attend for $10. Group photo taken at 7pm.
URL:https://thepackdogpark.com/event/breed-meetup-corgis/
LOCATION:The Pack Indoor Dog Park\, 5205 West River Dr NE\, Comstock Park\, MI\, 49321
CATEGORIES:Breed Meetup
ORGANIZER;CN="The Pack Indoor Dog Park":MAILTO:contact@thepackdogpark.com
END:VEVENT
BEGIN:VEVENT
DTSTART;TZID=UTC:20230517T180000
DTEND;TZID=UTC:20230517T200000
DTSTAMP:20260424T034202
CREATED:20230427T194205Z
LAST-MODIFIED:20230427T194205Z
UID:327-1684346400-1684353600@thepackdogpark.com
SUMMARY:Breed Meetup: Small Breeds (under 30lbs)
DESCRIPTION:Calling all Littles! All dogs must be registered with proof of required vaccinations. Dogs under 30lbs without membership can attend for $10. Group photo taken at 7pm.
URL:https://thepackdogpark.com/event/breed-meetup-small-breeds-under-30lbs/
LOCATION:The Pack Indoor Dog Park\, 5205 West River Dr NE\, Comstock Park\, MI\, 49321
CATEGORIES:Breed Meetup
ORGANIZER;CN="The Pack Indoor Dog Park":MAILTO:contact@thepackdogpark.com
END:VEVENT
BEGIN:VEVENT
DTSTART;TZID=UTC:20230516T180000
DTEND;TZID=UTC:20230516T200000
DTSTAMP:20260424T034202
CREATED:20230427T193742Z
LAST-MODIFIED:20230427T193742Z
UID:325-1684260000-1684267200@thepackdogpark.com
SUMMARY:Breed Meetup: Huskies
DESCRIPTION:Calling all Huskies! All dogs must be registered with proof of required vaccinations. Huskies without membership can attend for $10. Group photo taken at 7pm.
URL:https://thepackdogpark.com/event/breed-meetup-huskies/
LOCATION:The Pack Indoor Dog Park\, 5205 West River Dr NE\, Comstock Park\, MI\, 49321
CATEGORIES:Breed Meetup
ORGANIZER;CN="The Pack Indoor Dog Park":MAILTO:contact@thepackdogpark.com
END:VEVENT
BEGIN:VEVENT
DTSTART;TZID=UTC:20230515T180000
DTEND;TZID=UTC:20230515T200000
DTSTAMP:20260424T034202
CREATED:20230427T193611Z
LAST-MODIFIED:20230427T193611Z
UID:323-1684173600-1684180800@thepackdogpark.com
SUMMARY:Breed Meetup: Boxers
DESCRIPTION:Calling all Boxers! All dogs must be registered with proof of required vaccinations. Boxers without membership can attend for $10. Group photo taken at 7pm.
URL:https://thepackdogpark.com/event/breed-meetup-boxers/
LOCATION:The Pack Indoor Dog Park\, 5205 West River Dr NE\, Comstock Park\, MI\, 49321
CATEGORIES:Breed Meetup
ORGANIZER;CN="The Pack Indoor Dog Park":MAILTO:contact@thepackdogpark.com
END:VEVENT
END:VCALENDAR