BEGIN:VCALENDAR
VERSION:2.0
PRODID:-//The Pack Indoor Dog Park - ECPv6.15.20//NONSGML v1.0//EN
CALSCALE:GREGORIAN
METHOD:PUBLISH
X-WR-CALNAME:The Pack Indoor Dog Park
X-ORIGINAL-URL:https://thepackdogpark.com
X-WR-CALDESC:Events for The Pack Indoor Dog Park
REFRESH-INTERVAL;VALUE=DURATION:PT1H
X-Robots-Tag:noindex
X-PUBLISHED-TTL:PT1H
BEGIN:VTIMEZONE
TZID:America/New_York
BEGIN:DAYLIGHT
TZOFFSETFROM:-0500
TZOFFSETTO:-0400
TZNAME:EDT
DTSTART:20240310T070000
END:DAYLIGHT
BEGIN:STANDARD
TZOFFSETFROM:-0400
TZOFFSETTO:-0500
TZNAME:EST
DTSTART:20241103T060000
END:STANDARD
BEGIN:DAYLIGHT
TZOFFSETFROM:-0500
TZOFFSETTO:-0400
TZNAME:EDT
DTSTART:20250309T070000
END:DAYLIGHT
BEGIN:STANDARD
TZOFFSETFROM:-0400
TZOFFSETTO:-0500
TZNAME:EST
DTSTART:20251102T060000
END:STANDARD
BEGIN:DAYLIGHT
TZOFFSETFROM:-0500
TZOFFSETTO:-0400
TZNAME:EDT
DTSTART:20260308T070000
END:DAYLIGHT
BEGIN:STANDARD
TZOFFSETFROM:-0400
TZOFFSETTO:-0500
TZNAME:EST
DTSTART:20261101T060000
END:STANDARD
END:VTIMEZONE
BEGIN:VTIMEZONE
TZID:UTC
BEGIN:STANDARD
TZOFFSETFROM:+0000
TZOFFSETTO:+0000
TZNAME:UTC
DTSTART:20220101T000000
END:STANDARD
END:VTIMEZONE
BEGIN:VTIMEZONE
TZID:America/Halifax
BEGIN:DAYLIGHT
TZOFFSETFROM:-0400
TZOFFSETTO:-0300
TZNAME:ADT
DTSTART:20220313T060000
END:DAYLIGHT
BEGIN:STANDARD
TZOFFSETFROM:-0300
TZOFFSETTO:-0400
TZNAME:AST
DTSTART:20221106T050000
END:STANDARD
BEGIN:DAYLIGHT
TZOFFSETFROM:-0400
TZOFFSETTO:-0300
TZNAME:ADT
DTSTART:20230312T060000
END:DAYLIGHT
BEGIN:STANDARD
TZOFFSETFROM:-0300
TZOFFSETTO:-0400
TZNAME:AST
DTSTART:20231105T050000
END:STANDARD
BEGIN:DAYLIGHT
TZOFFSETFROM:-0400
TZOFFSETTO:-0300
TZNAME:ADT
DTSTART:20240310T060000
END:DAYLIGHT
BEGIN:STANDARD
TZOFFSETFROM:-0300
TZOFFSETTO:-0400
TZNAME:AST
DTSTART:20241103T050000
END:STANDARD
END:VTIMEZONE
BEGIN:VEVENT
DTSTART;TZID=America/New_York:20250514T183000
DTEND;TZID=America/New_York:20250514T200000
DTSTAMP:20260424T010638
CREATED:20250513T011338Z
LAST-MODIFIED:20250513T011338Z
UID:647-1747247400-1747252800@thepackdogpark.com
SUMMARY:Corgi Breed Meetup
DESCRIPTION:Join us for a fun breed meetup! Dogs matching the breed can pay $10 or use a punch card / membership. All other breeds also welcome with a punch card / membership. All dogs must be registered with proof of required vaccinations. This meetup includes games and giveaways at 7pm
URL:https://thepackdogpark.com/event/corgi-breed-meetup/
LOCATION:The Pack Indoor Dog Park\, 5205 West River Dr NE\, Comstock Park\, MI\, 49321
CATEGORIES:Breed Meetup
ORGANIZER;CN="The Pack Indoor Dog Park":MAILTO:contact@thepackdogpark.com
END:VEVENT
BEGIN:VEVENT
DTSTART;TZID=America/New_York:20250512T183000
DTEND;TZID=America/New_York:20250512T200000
DTSTAMP:20260424T010638
CREATED:20250512T180639Z
LAST-MODIFIED:20250512T180639Z
UID:644-1747074600-1747080000@thepackdogpark.com
SUMMARY:Golden Retriever Breed Meetup
DESCRIPTION:Join us for a fun breed meetup! Dogs matching the breed can pay $10 or use a punch card / membership. All other breeds also welcome with a punch card / membership. All dogs must be registered with proof of required vaccinations. This meetup includes games and giveaways at 7pm
URL:https://thepackdogpark.com/event/golden-retriever-breed-meetup/
LOCATION:The Pack Indoor Dog Park\, 5205 West River Dr NE\, Comstock Park\, MI\, 49321
CATEGORIES:Breed Meetup
ORGANIZER;CN="The Pack Indoor Dog Park":MAILTO:contact@thepackdogpark.com
END:VEVENT
BEGIN:VEVENT
DTSTART;TZID=UTC:20241001T183000
DTEND;TZID=UTC:20241001T200000
DTSTAMP:20260424T010638
CREATED:20240722T181526Z
LAST-MODIFIED:20240722T181526Z
UID:573-1727807400-1727812800@thepackdogpark.com
SUMMARY:Breed Meetup: Snow Loving Dogs
DESCRIPTION:All dogs must be registered with proof of required vaccinations.  Dogs without a membership can come and play for only $10.00.  Games and giveaways for your pups start at 7PM sharp.
URL:https://thepackdogpark.com/event/breed-meetup-snow-loving-dogs/
LOCATION:The Pack Indoor Dog Park\, 5205 West River Dr NE\, Comstock Park\, MI\, 49321
CATEGORIES:Breed Meetup
ORGANIZER;CN="The Pack Indoor Dog Park":MAILTO:contact@thepackdogpark.com
END:VEVENT
BEGIN:VEVENT
DTSTART;TZID=UTC:20240924T183000
DTEND;TZID=UTC:20240924T200000
DTSTAMP:20260424T010638
CREATED:20240722T181433Z
LAST-MODIFIED:20240722T181433Z
UID:571-1727202600-1727208000@thepackdogpark.com
SUMMARY:Breed Meetup: Bernese Mountain Dog and BMD Mixes
DESCRIPTION:All dogs must be registered with proof of required vaccinations.  Dogs without a membership can come and play for only $10.00.  Games and giveaways for your pups start at 7PM sharp.
URL:https://thepackdogpark.com/event/breed-meetup-bernese-mountain-dog-and-bmd-mixes/
LOCATION:The Pack Indoor Dog Park\, 5205 West River Dr NE\, Comstock Park\, MI\, 49321
CATEGORIES:Breed Meetup
ORGANIZER;CN="The Pack Indoor Dog Park":MAILTO:contact@thepackdogpark.com
END:VEVENT
BEGIN:VEVENT
DTSTART;TZID=UTC:20240917T183000
DTEND;TZID=UTC:20240917T200000
DTSTAMP:20260424T010638
CREATED:20240722T181335Z
LAST-MODIFIED:20240722T181335Z
UID:569-1726597800-1726603200@thepackdogpark.com
SUMMARY:Breed Meetup: Rescues
DESCRIPTION:All dogs must be registered with proof of required vaccinations.  Dogs without a membership can come and play for only $10.00.  Games and giveaways for your pups start at 7PM sharp.
URL:https://thepackdogpark.com/event/breed-meetup-rescues-2/
LOCATION:The Pack Indoor Dog Park\, 5205 West River Dr NE\, Comstock Park\, MI\, 49321
CATEGORIES:Breed Meetup
ORGANIZER;CN="The Pack Indoor Dog Park":MAILTO:contact@thepackdogpark.com
END:VEVENT
BEGIN:VEVENT
DTSTART;TZID=UTC:20240910T183000
DTEND;TZID=UTC:20240910T200000
DTSTAMP:20260424T010639
CREATED:20240722T181245Z
LAST-MODIFIED:20240722T181245Z
UID:567-1725993000-1725998400@thepackdogpark.com
SUMMARY:Breed Meetup: Aussie & Aussie Mix
DESCRIPTION:All dogs must be registered with proof of required vaccinations.  Dogs without a membership can come and play for only $10.00.  Games and giveaways for your pups start at 7PM sharp.
URL:https://thepackdogpark.com/event/breed-meetup-aussie-aussie-mix/
LOCATION:The Pack Indoor Dog Park\, 5205 West River Dr NE\, Comstock Park\, MI\, 49321
CATEGORIES:Breed Meetup
ORGANIZER;CN="The Pack Indoor Dog Park":MAILTO:contact@thepackdogpark.com
END:VEVENT
BEGIN:VEVENT
DTSTART;TZID=UTC:20240903T183000
DTEND;TZID=UTC:20240903T200000
DTSTAMP:20260424T010639
CREATED:20240722T181144Z
LAST-MODIFIED:20240722T181144Z
UID:565-1725388200-1725393600@thepackdogpark.com
SUMMARY:Breed Meetup: Corgis
DESCRIPTION:All dogs must be registered with proof of required vaccinations.  Dogs without a membership can come and play for only $10.00.  Games and giveaways for your pups start at 7PM sharp.
URL:https://thepackdogpark.com/event/breed-meetup-corgis-3/
LOCATION:The Pack Indoor Dog Park\, 5205 West River Dr NE\, Comstock Park\, MI\, 49321
CATEGORIES:Breed Meetup
ORGANIZER;CN="The Pack Indoor Dog Park":MAILTO:contact@thepackdogpark.com
END:VEVENT
BEGIN:VEVENT
DTSTART;TZID=UTC:20240820T183000
DTEND;TZID=UTC:20240820T200000
DTSTAMP:20260424T010639
CREATED:20240722T180459Z
LAST-MODIFIED:20240722T180459Z
UID:561-1724178600-1724184000@thepackdogpark.com
SUMMARY:Breed Meetup: Small and Toy Breeds
DESCRIPTION:All dogs must be registered with proof of required vaccinations.  Dogs without a membership can come and play for only $10.00.  Games and giveaways for your pups start at 7PM sharp.
URL:https://thepackdogpark.com/event/breed-meetup-small-and-toy-breeds/
LOCATION:The Pack Indoor Dog Park\, 5205 West River Dr NE\, Comstock Park\, MI\, 49321
CATEGORIES:Breed Meetup
ORGANIZER;CN="The Pack Indoor Dog Park":MAILTO:contact@thepackdogpark.com
END:VEVENT
BEGIN:VEVENT
DTSTART;TZID=UTC:20240813T183000
DTEND;TZID=UTC:20240813T200000
DTSTAMP:20260424T010639
CREATED:20240722T174421Z
LAST-MODIFIED:20240722T174421Z
UID:559-1723573800-1723579200@thepackdogpark.com
SUMMARY:Breed Meetup: Puppies (under 1 year old)
DESCRIPTION:All dogs must be registered with proof of required vaccinations.  Dogs without a membership can come and play for only $10.00.  Games and giveaways for your pups start at 7PM sharp.
URL:https://thepackdogpark.com/event/breed-meetup-puppies-under-1-year-old-2/
LOCATION:The Pack Indoor Dog Park\, 5205 West River Dr NE\, Comstock Park\, MI\, 49321
CATEGORIES:Breed Meetup
ORGANIZER;CN="The Pack Indoor Dog Park":MAILTO:contact@thepackdogpark.com
END:VEVENT
BEGIN:VEVENT
DTSTART;TZID=UTC:20240730T183000
DTEND;TZID=UTC:20240730T200000
DTSTAMP:20260424T010639
CREATED:20240722T165325Z
LAST-MODIFIED:20240722T165325Z
UID:555-1722364200-1722369600@thepackdogpark.com
SUMMARY:Breed Meetup: Golden Retriever
DESCRIPTION:All dogs must be registered with proof of required vaccinations.  Dogs without a membership can come and play for only $10.00.  Games and giveaways for your pups start at 7PM sharp.
URL:https://thepackdogpark.com/event/breed-meetup-golden-retriever/
LOCATION:The Pack Indoor Dog Park\, 5205 West River Dr NE\, Comstock Park\, MI\, 49321
CATEGORIES:Breed Meetup
ORGANIZER;CN="The Pack Indoor Dog Park":MAILTO:contact@thepackdogpark.com
END:VEVENT
BEGIN:VEVENT
DTSTART;TZID=UTC:20240723T183000
DTEND;TZID=UTC:20240723T200000
DTSTAMP:20260424T010639
CREATED:20240722T165054Z
LAST-MODIFIED:20240722T165206Z
UID:553-1721759400-1721764800@thepackdogpark.com
SUMMARY:Breed Meetup Large Breeds
DESCRIPTION:Great danes… St Bernards… Newfoundlands… OH MY! Join us for a large dog meetup! \nAll dogs must be registered with proof of required vaccinations.  Dogs without a membership can come and play for only $10.00.  Games and giveaways for your pups start at 7PM sharp.
URL:https://thepackdogpark.com/event/breed-meetup-large-breeds/
LOCATION:The Pack Indoor Dog Park\, 5205 West River Dr NE\, Comstock Park\, MI\, 49321
CATEGORIES:Breed Meetup
ORGANIZER;CN="The Pack Indoor Dog Park":MAILTO:contact@thepackdogpark.com
END:VEVENT
BEGIN:VEVENT
DTSTART;TZID=UTC:20240625T183000
DTEND;TZID=UTC:20240625T200000
DTSTAMP:20260424T010639
CREATED:20240401T171544Z
LAST-MODIFIED:20240401T171544Z
UID:522-1719340200-1719345600@thepackdogpark.com
SUMMARY:Breed Meetup:  Bernese Mountain and Bernie Mixes
DESCRIPTION:Calling all Bernese and Bernese Mixes!! All dogs must be registered with proof of required vaccinations.  Dogs without a membership can come and play for only $10.00.  Games and giveaways for your pups start at 7PM sharp. \n 
URL:https://thepackdogpark.com/event/breed-meetup-bernese-mountain-and-bernie-mixes/
LOCATION:The Pack Indoor Dog Park\, 5205 West River Dr NE\, Comstock Park\, MI\, 49321
CATEGORIES:Breed Meetup
ORGANIZER;CN="The Pack Indoor Dog Park":MAILTO:contact@thepackdogpark.com
END:VEVENT
BEGIN:VEVENT
DTSTART;TZID=UTC:20240618T183000
DTEND;TZID=UTC:20240618T200000
DTSTAMP:20260424T010639
CREATED:20240401T171031Z
LAST-MODIFIED:20240401T171031Z
UID:520-1718735400-1718740800@thepackdogpark.com
SUMMARY:Breed Meetup:  Boxer and Boxer Mix
DESCRIPTION:Calling all Boxer and Boxer Mixes!! All dogs must be registered with proof of required vaccinations.  Boxers without a membership can come and play for only $10.00.  Games and giveaways for your pups start at 7PM sharp. \n 
URL:https://thepackdogpark.com/event/breed-meetup-boxer-and-boxer-mix/
LOCATION:The Pack Indoor Dog Park\, 5205 West River Dr NE\, Comstock Park\, MI\, 49321
CATEGORIES:Breed Meetup
ORGANIZER;CN="The Pack Indoor Dog Park":MAILTO:contact@thepackdogpark.com
END:VEVENT
BEGIN:VEVENT
DTSTART;TZID=UTC:20240611T183000
DTEND;TZID=UTC:20240611T200000
DTSTAMP:20260424T010639
CREATED:20240401T170808Z
LAST-MODIFIED:20240401T170808Z
UID:518-1718130600-1718136000@thepackdogpark.com
SUMMARY:Breed Meetup:  Husky Night
DESCRIPTION:Calling all Siberian Huskies!! All dogs must be registered with proof of required vaccinations.  Huskies without a membership can come and play for only $10.00.  Games and giveaways for your pups start at 7PM sharp. \n 
URL:https://thepackdogpark.com/event/breed-meetup-husky-night/
LOCATION:The Pack Indoor Dog Park\, 5205 West River Dr NE\, Comstock Park\, MI\, 49321
CATEGORIES:Breed Meetup
ORGANIZER;CN="The Pack Indoor Dog Park":MAILTO:contact@thepackdogpark.com
END:VEVENT
BEGIN:VEVENT
DTSTART;TZID=UTC:20240604T183000
DTEND;TZID=UTC:20240604T200000
DTSTAMP:20260424T010639
CREATED:20240401T170531Z
LAST-MODIFIED:20240401T170531Z
UID:516-1717525800-1717531200@thepackdogpark.com
SUMMARY:Breed Meetup: Corgi Night
DESCRIPTION:Calling all Corgis!! All dogs must be registered with proof of required vaccinations.  Corgis without a membership can come and play for only $10.00.  Games and giveaways for your pups start at 7PM sharp. \n 
URL:https://thepackdogpark.com/event/breed-meetup-corgi-night/
LOCATION:The Pack Indoor Dog Park\, 5205 West River Dr NE\, Comstock Park\, MI\, 49321
CATEGORIES:Breed Meetup
ORGANIZER;CN="The Pack Indoor Dog Park":MAILTO:contact@thepackdogpark.com
END:VEVENT
BEGIN:VEVENT
DTSTART;TZID=UTC:20240528T183000
DTEND;TZID=UTC:20240528T200000
DTSTAMP:20260424T010639
CREATED:20240401T170300Z
LAST-MODIFIED:20240401T170300Z
UID:514-1716921000-1716926400@thepackdogpark.com
SUMMARY:Breed Meetup:  Doodles
DESCRIPTION:Calling all Doodles!! All dogs must be registered with proof of required vaccinations.  Doodles without a membership can come and play for only $10.00.  Games and giveaways for your pups start at 7PM sharp. \n 
URL:https://thepackdogpark.com/event/breed-meetup-doodles/
LOCATION:The Pack Indoor Dog Park\, 5205 West River Dr NE\, Comstock Park\, MI\, 49321
CATEGORIES:Breed Meetup
ORGANIZER;CN="The Pack Indoor Dog Park":MAILTO:contact@thepackdogpark.com
END:VEVENT
BEGIN:VEVENT
DTSTART;TZID=UTC:20240521T183000
DTEND;TZID=UTC:20240521T200000
DTSTAMP:20260424T010639
CREATED:20240401T165914Z
LAST-MODIFIED:20240401T165914Z
UID:510-1716316200-1716321600@thepackdogpark.com
SUMMARY:Breed Meetup:  Frenchies
DESCRIPTION:Calling all French Bulldogs!! All dogs must be registered with proof of required vaccinations.  Frenchies  without a membership can come and play for only $10.00.  Games and giveaways for your pups start at 7PM sharp. \n 
URL:https://thepackdogpark.com/event/breed-meetup-frenchies-2/
LOCATION:The Pack Indoor Dog Park\, 5205 West River Dr NE\, Comstock Park\, MI\, 49321
CATEGORIES:Breed Meetup
ORGANIZER;CN="The Pack Indoor Dog Park":MAILTO:contact@thepackdogpark.com
END:VEVENT
BEGIN:VEVENT
DTSTART;TZID=UTC:20240514T183000
DTEND;TZID=UTC:20240514T200000
DTSTAMP:20260424T010639
CREATED:20240401T163404Z
LAST-MODIFIED:20240401T223003Z
UID:506-1715711400-1715716800@thepackdogpark.com
SUMMARY:Breed Meetup : Labrador Retrievers
DESCRIPTION:Calling all Labrador Retrievers!! All dogs must be registered with proof of required vaccinations.  Labs without a membership can come and play for only $10.00.  Games and giveaways for your pups start at 7PM sharp. \n 
URL:https://thepackdogpark.com/event/breed-meetup-labrador-retrievers/
LOCATION:The Pack Indoor Dog Park\, 5205 West River Dr NE\, Comstock Park\, MI\, 49321
CATEGORIES:Breed Meetup
ORGANIZER;CN="The Pack Indoor Dog Park":MAILTO:contact@thepackdogpark.com
END:VEVENT
BEGIN:VEVENT
DTSTART;TZID=UTC:20240507T183000
DTEND;TZID=UTC:20240507T200000
DTSTAMP:20260424T010639
CREATED:20240401T165018Z
LAST-MODIFIED:20240401T165018Z
UID:508-1715106600-1715112000@thepackdogpark.com
SUMMARY:Breed Meetup:  Golden Retrievers
DESCRIPTION:Calling all Golden Retrievers!! All dogs must be registered with proof of required vaccinations.  Golden’s without a membership can come and play for only $10.00.  Games and giveaways for your pups start at 7PM sharp. \n 
URL:https://thepackdogpark.com/event/breed-meetup-golden-retrievers-2/
LOCATION:The Pack Indoor Dog Park\, 5205 West River Dr NE\, Comstock Park\, MI\, 49321
CATEGORIES:Breed Meetup
ORGANIZER;CN="The Pack Indoor Dog Park":MAILTO:contact@thepackdogpark.com
END:VEVENT
BEGIN:VEVENT
DTSTART;TZID=America/Halifax:20230628T180000
DTEND;TZID=America/Halifax:20230628T200000
DTSTAMP:20260424T010639
CREATED:20230522T224641Z
LAST-MODIFIED:20230522T224641Z
UID:370-1687975200-1687982400@thepackdogpark.com
SUMMARY:Breed Meetup: Aussiedoodles
DESCRIPTION:Calling all Ausiedoodles! All dogs must be registered with proof of required vaccinations. Aussiedoodles without membership can attend for $10. Group photo taken at 7pm.
URL:https://thepackdogpark.com/event/breed-meetup-aussiedoodles/
LOCATION:The Pack Indoor Dog Park\, 5205 West River Dr NE\, Comstock Park\, MI\, 49321
CATEGORIES:Breed Meetup
ORGANIZER;CN="The Pack Indoor Dog Park":MAILTO:contact@thepackdogpark.com
END:VEVENT
BEGIN:VEVENT
DTSTART;TZID=America/Halifax:20230627T180000
DTEND;TZID=America/Halifax:20230627T200000
DTSTAMP:20260424T010639
CREATED:20230522T224528Z
LAST-MODIFIED:20230522T224528Z
UID:368-1687888800-1687896000@thepackdogpark.com
SUMMARY:Breed Meetup: Seniors (dogs over 7 years old)
DESCRIPTION:Calling all Senior Dogs! All dogs must be registered with proof of required vaccinations. Seniors without membership can attend for $10. Group photo taken at 7pm.
URL:https://thepackdogpark.com/event/breed-meetup-seniors-dogs-over-7-years-old/
LOCATION:The Pack Indoor Dog Park\, 5205 West River Dr NE\, Comstock Park\, MI\, 49321
CATEGORIES:Breed Meetup
ORGANIZER;CN="The Pack Indoor Dog Park":MAILTO:contact@thepackdogpark.com
END:VEVENT
BEGIN:VEVENT
DTSTART;TZID=America/Halifax:20230626T180000
DTEND;TZID=America/Halifax:20230626T200000
DTSTAMP:20260424T010639
CREATED:20230522T224412Z
LAST-MODIFIED:20230522T224424Z
UID:366-1687802400-1687809600@thepackdogpark.com
SUMMARY:Breed Meetup: Corgis
DESCRIPTION:Calling all Corgis! All dogs must be registered with proof of required vaccinations. Corgis without membership can attend for $10. Group photo taken at 7pm.
URL:https://thepackdogpark.com/event/breed-meetup-corgis-2/
LOCATION:The Pack Indoor Dog Park\, 5205 West River Dr NE\, Comstock Park\, MI\, 49321
CATEGORIES:Breed Meetup
ORGANIZER;CN="The Pack Indoor Dog Park":MAILTO:contact@thepackdogpark.com
END:VEVENT
BEGIN:VEVENT
DTSTART;TZID=America/Halifax:20230621T180000
DTEND;TZID=America/Halifax:20230621T200000
DTSTAMP:20260424T010639
CREATED:20230522T224236Z
LAST-MODIFIED:20230522T224236Z
UID:364-1687370400-1687377600@thepackdogpark.com
SUMMARY:Breed Meetup: Puppies (under 1 year old)
DESCRIPTION:Calling all Puppies (under 1)! All dogs must be registered with proof of required vaccinations. Puppies without membership can attend for $10. Group photo taken at 7pm.
URL:https://thepackdogpark.com/event/breed-meetup-puppies-under-1-year-old/
LOCATION:The Pack Indoor Dog Park\, 5205 West River Dr NE\, Comstock Park\, MI\, 49321
CATEGORIES:Breed Meetup
ORGANIZER;CN="The Pack Indoor Dog Park":MAILTO:contact@thepackdogpark.com
END:VEVENT
BEGIN:VEVENT
DTSTART;TZID=America/Halifax:20230620T180000
DTEND;TZID=America/Halifax:20230620T200000
DTSTAMP:20260424T010639
CREATED:20230522T224101Z
LAST-MODIFIED:20230522T224101Z
UID:362-1687284000-1687291200@thepackdogpark.com
SUMMARY:Breed Meetup: Rescues
DESCRIPTION:Calling all Rescues! All dogs must be registered with proof of required vaccinations. Rescues without membership can attend for $10. Group photo taken at 7pm. $1 for every draft beer sold and 5% of all food sales for the night will be donated to Humane Society of West Michigan!
URL:https://thepackdogpark.com/event/breed-meetup-rescues/
LOCATION:The Pack Indoor Dog Park\, 5205 West River Dr NE\, Comstock Park\, MI\, 49321
CATEGORIES:Breed Meetup
ORGANIZER;CN="The Pack Indoor Dog Park":MAILTO:contact@thepackdogpark.com
END:VEVENT
BEGIN:VEVENT
DTSTART;TZID=America/Halifax:20230619T180000
DTEND;TZID=America/Halifax:20230619T200000
DTSTAMP:20260424T010639
CREATED:20230522T223742Z
LAST-MODIFIED:20230522T223742Z
UID:360-1687197600-1687204800@thepackdogpark.com
SUMMARY:Breed Meetup: Bernedoodles
DESCRIPTION:Calling all Bernedoodles! All dogs must be registered with proof of required vaccinations. Bernedoodles without membership can attend for $10. Group photo taken at 7pm.
URL:https://thepackdogpark.com/event/breed-meetup-bernedoodles/
LOCATION:The Pack Indoor Dog Park\, 5205 West River Dr NE\, Comstock Park\, MI\, 49321
CATEGORIES:Breed Meetup
ORGANIZER;CN="The Pack Indoor Dog Park":MAILTO:contact@thepackdogpark.com
END:VEVENT
BEGIN:VEVENT
DTSTART;TZID=America/Halifax:20230614T180000
DTEND;TZID=America/Halifax:20230614T200000
DTSTAMP:20260424T010639
CREATED:20230522T223602Z
LAST-MODIFIED:20230522T223602Z
UID:358-1686765600-1686772800@thepackdogpark.com
SUMMARY:Breed Meetup: Goldendoodles
DESCRIPTION:Calling all Goldendoodles! All dogs must be registered with proof of required vaccinations. Goldendoodles without membership can attend for $10. Group photo taken at 7pm.
URL:https://thepackdogpark.com/event/breed-meetup-goldendoodles-2/
LOCATION:The Pack Indoor Dog Park\, 5205 West River Dr NE\, Comstock Park\, MI\, 49321
CATEGORIES:Breed Meetup
ORGANIZER;CN="The Pack Indoor Dog Park":MAILTO:contact@thepackdogpark.com
END:VEVENT
BEGIN:VEVENT
DTSTART;TZID=America/Halifax:20230613T180000
DTEND;TZID=America/Halifax:20230613T200000
DTSTAMP:20260424T010639
CREATED:20230522T223323Z
LAST-MODIFIED:20230522T223323Z
UID:356-1686679200-1686686400@thepackdogpark.com
SUMMARY:Breed Meetup: Hounds
DESCRIPTION:Calling all Hounds! All dogs must be registered with proof of required vaccinations. Hounds without membership can attend for $10. Group photo taken at 7pm.
URL:https://thepackdogpark.com/event/breed-meetup-hounds/
LOCATION:The Pack Indoor Dog Park\, 5205 West River Dr NE\, Comstock Park\, MI\, 49321
CATEGORIES:Breed Meetup
ORGANIZER;CN="The Pack Indoor Dog Park":MAILTO:contact@thepackdogpark.com
END:VEVENT
BEGIN:VEVENT
DTSTART;TZID=America/Halifax:20230612T180000
DTEND;TZID=America/Halifax:20230612T200000
DTSTAMP:20260424T010639
CREATED:20230522T223213Z
LAST-MODIFIED:20230522T223213Z
UID:354-1686592800-1686600000@thepackdogpark.com
SUMMARY:Breed Meetup: Giant Breeds
DESCRIPTION:Calling all Great Danes\, Cane Corsos\, Mastiffs\, Newfoundlands\, and more! All dogs must be registered with proof of required vaccinations. Giant Breeds without membership can attend for $10. Group photo taken at 7pm.
URL:https://thepackdogpark.com/event/breed-meetup-giant-breeds/
LOCATION:The Pack Indoor Dog Park\, 5205 West River Dr NE\, Comstock Park\, MI\, 49321
CATEGORIES:Breed Meetup
ORGANIZER;CN="The Pack Indoor Dog Park":MAILTO:contact@thepackdogpark.com
END:VEVENT
BEGIN:VEVENT
DTSTART;TZID=America/Halifax:20230607T180000
DTEND;TZID=America/Halifax:20230607T200000
DTSTAMP:20260424T010639
CREATED:20230522T223005Z
LAST-MODIFIED:20230522T223005Z
UID:352-1686160800-1686168000@thepackdogpark.com
SUMMARY:Breed Meetup: Spaniels
DESCRIPTION:Calling all Spaniels! All dogs must be registered with proof of required vaccinations. Spaniels without membership can attend for $10. Group photo taken at 7pm.
URL:https://thepackdogpark.com/event/breed-meetup-spaniels/
LOCATION:The Pack Indoor Dog Park\, 5205 West River Dr NE\, Comstock Park\, MI\, 49321
CATEGORIES:Breed Meetup
ORGANIZER;CN="The Pack Indoor Dog Park":MAILTO:contact@thepackdogpark.com
END:VEVENT
BEGIN:VEVENT
DTSTART;TZID=UTC:20230606T180000
DTEND;TZID=UTC:20230606T200000
DTSTAMP:20260424T010639
CREATED:20230522T222831Z
LAST-MODIFIED:20230522T222831Z
UID:350-1686074400-1686081600@thepackdogpark.com
SUMMARY:Breed Meetup: Goldens
DESCRIPTION:Calling all Goldens! All dogs must be registered with proof of required vaccinations. Goldens without membership can attend for $10. Group photo taken at 7pm.
URL:https://thepackdogpark.com/event/breed-meetup-goldens/
LOCATION:The Pack Indoor Dog Park\, 5205 West River Dr NE\, Comstock Park\, MI\, 49321
CATEGORIES:Breed Meetup
ORGANIZER;CN="The Pack Indoor Dog Park":MAILTO:contact@thepackdogpark.com
END:VEVENT
END:VCALENDAR