BEGIN:VCALENDAR
VERSION:2.0
PRODID:-//The Pack Indoor Dog Park - ECPv6.15.20//NONSGML v1.0//EN
CALSCALE:GREGORIAN
METHOD:PUBLISH
X-WR-CALNAME:The Pack Indoor Dog Park
X-ORIGINAL-URL:https://thepackdogpark.com
X-WR-CALDESC:Events for The Pack Indoor Dog Park
REFRESH-INTERVAL;VALUE=DURATION:PT1H
X-Robots-Tag:noindex
X-PUBLISHED-TTL:PT1H
BEGIN:VTIMEZONE
TZID:America/New_York
BEGIN:DAYLIGHT
TZOFFSETFROM:-0500
TZOFFSETTO:-0400
TZNAME:EDT
DTSTART:20240310T070000
END:DAYLIGHT
BEGIN:STANDARD
TZOFFSETFROM:-0400
TZOFFSETTO:-0500
TZNAME:EST
DTSTART:20241103T060000
END:STANDARD
BEGIN:DAYLIGHT
TZOFFSETFROM:-0500
TZOFFSETTO:-0400
TZNAME:EDT
DTSTART:20250309T070000
END:DAYLIGHT
BEGIN:STANDARD
TZOFFSETFROM:-0400
TZOFFSETTO:-0500
TZNAME:EST
DTSTART:20251102T060000
END:STANDARD
BEGIN:DAYLIGHT
TZOFFSETFROM:-0500
TZOFFSETTO:-0400
TZNAME:EDT
DTSTART:20260308T070000
END:DAYLIGHT
BEGIN:STANDARD
TZOFFSETFROM:-0400
TZOFFSETTO:-0500
TZNAME:EST
DTSTART:20261101T060000
END:STANDARD
END:VTIMEZONE
BEGIN:VTIMEZONE
TZID:UTC
BEGIN:STANDARD
TZOFFSETFROM:+0000
TZOFFSETTO:+0000
TZNAME:UTC
DTSTART:20230101T000000
END:STANDARD
END:VTIMEZONE
BEGIN:VEVENT
DTSTART;TZID=America/New_York:20250630T183000
DTEND;TZID=America/New_York:20250630T200000
DTSTAMP:20260423T220009
CREATED:20250513T011451Z
LAST-MODIFIED:20250513T011451Z
UID:666-1751308200-1751313600@thepackdogpark.com
SUMMARY:Mixed Breed Meetup
DESCRIPTION:Join us for a fun breed meetup! Dogs matching the breed can pay $10 or use a punch card / membership. All other breeds also welcome with a punch card / membership. All dogs must be registered with proof of required vaccinations.
URL:https://thepackdogpark.com/event/mixed-breed-meetup/
LOCATION:The Pack Indoor Dog Park\, 5205 West River Dr NE\, Comstock Park\, MI\, 49321
CATEGORIES:Breed Meetup
ORGANIZER;CN="The Pack Indoor Dog Park":MAILTO:contact@thepackdogpark.com
END:VEVENT
BEGIN:VEVENT
DTSTART;TZID=America/New_York:20250629T120000
DTEND;TZID=America/New_York:20250629T140000
DTSTAMP:20260423T220009
CREATED:20250513T011441Z
LAST-MODIFIED:20250513T011441Z
UID:665-1751198400-1751205600@thepackdogpark.com
SUMMARY:French Bulldog Breed Meetup
DESCRIPTION:Join us for a fun breed meetup! Dogs matching the breed can pay $10 or use a punch card / membership. All other breeds also welcome with a punch card / membership. All dogs must be registered with proof of required vaccinations. This meetup includes games and giveaways at 1PM
URL:https://thepackdogpark.com/event/french-bulldog-breed-meetup/
LOCATION:The Pack Indoor Dog Park\, 5205 West River Dr NE\, Comstock Park\, MI\, 49321
CATEGORIES:Breed Meetup
ORGANIZER;CN="The Pack Indoor Dog Park":MAILTO:contact@thepackdogpark.com
END:VEVENT
BEGIN:VEVENT
DTSTART;TZID=America/New_York:20250626T183000
DTEND;TZID=America/New_York:20250626T193000
DTSTAMP:20260423T220009
CREATED:20250529T201307Z
LAST-MODIFIED:20250529T201323Z
UID:701-1750962600-1750966200@thepackdogpark.com
SUMMARY:Trivia
DESCRIPTION:Join us every Thursday for Trivia with DnT Entertainent. Play solo or bring friends and play as a team. Gift card prizes to The Pack for 1st – 3rd place. Always free to play! Any dogs attending to play during trivia must be registered with a punch card or membership.
URL:https://thepackdogpark.com/event/trivia-5/
LOCATION:The Pack Indoor Dog Park\, 5205 West River Dr NE\, Comstock Park\, MI\, 49321
CATEGORIES:Breed Meetup
ORGANIZER;CN="The Pack Indoor Dog Park":MAILTO:contact@thepackdogpark.com
END:VEVENT
BEGIN:VEVENT
DTSTART;TZID=America/New_York:20250625T183000
DTEND;TZID=America/New_York:20250625T200000
DTSTAMP:20260423T220009
CREATED:20250513T011438Z
LAST-MODIFIED:20250513T011438Z
UID:664-1750876200-1750881600@thepackdogpark.com
SUMMARY:Poos Breed Meetup (maltipoo\, shih-poo\, etc.)
DESCRIPTION:Join us for a fun breed meetup! Dogs matching the breed can pay $10 or use a punch card / membership. All other breeds also welcome with a punch card / membership. All dogs must be registered with proof of required vaccinations.
URL:https://thepackdogpark.com/event/poos-breed-meetup-maltipoo-shih-poo-etc/
LOCATION:The Pack Indoor Dog Park\, 5205 West River Dr NE\, Comstock Park\, MI\, 49321
CATEGORIES:Breed Meetup
ORGANIZER;CN="The Pack Indoor Dog Park":MAILTO:contact@thepackdogpark.com
END:VEVENT
BEGIN:VEVENT
DTSTART;TZID=America/New_York:20250623T183000
DTEND;TZID=America/New_York:20250623T200000
DTSTAMP:20260423T220009
CREATED:20250513T011436Z
LAST-MODIFIED:20250513T011436Z
UID:663-1750703400-1750708800@thepackdogpark.com
SUMMARY:Boxer Breed Meetup
DESCRIPTION:Join us for a fun breed meetup! Dogs matching the breed can pay $10 or use a punch card / membership. All other breeds also welcome with a punch card / membership. All dogs must be registered with proof of required vaccinations.
URL:https://thepackdogpark.com/event/boxer-breed-meetup/
LOCATION:The Pack Indoor Dog Park\, 5205 West River Dr NE\, Comstock Park\, MI\, 49321
CATEGORIES:Breed Meetup
ORGANIZER;CN="The Pack Indoor Dog Park":MAILTO:contact@thepackdogpark.com
END:VEVENT
BEGIN:VEVENT
DTSTART;TZID=America/New_York:20250622T120000
DTEND;TZID=America/New_York:20250622T140000
DTSTAMP:20260423T220009
CREATED:20250513T011434Z
LAST-MODIFIED:20250513T011434Z
UID:662-1750593600-1750600800@thepackdogpark.com
SUMMARY:Greyhound Meetup
DESCRIPTION:Join us for a fun breed meetup! Dogs matching the breed can pay $10 or use a punch card / membership. All other breeds also welcome with a punch card / membership. All dogs must be registered with proof of required vaccinations.
URL:https://thepackdogpark.com/event/greyhound-meetup/
LOCATION:The Pack Indoor Dog Park\, 5205 West River Dr NE\, Comstock Park\, MI\, 49321
CATEGORIES:Breed Meetup
ORGANIZER;CN="The Pack Indoor Dog Park":MAILTO:contact@thepackdogpark.com
END:VEVENT
BEGIN:VEVENT
DTSTART;TZID=America/New_York:20250619T183000
DTEND;TZID=America/New_York:20250619T193000
DTSTAMP:20260423T220009
CREATED:20250529T201301Z
LAST-MODIFIED:20250529T201301Z
UID:700-1750357800-1750361400@thepackdogpark.com
SUMMARY:Trivia
DESCRIPTION:Join us every Thursday for Trivia with DnT Entertainent. Play solo or bring friends and play as a team. Gift card prizes to The Pack for 1st – 3rd place. Always free to play! Any dogs attending to play during trivia must be registered with a punch card or membership.
URL:https://thepackdogpark.com/event/trivia-4/
LOCATION:The Pack Indoor Dog Park\, 5205 West River Dr NE\, Comstock Park\, MI\, 49321
CATEGORIES:Breed Meetup
ORGANIZER;CN="The Pack Indoor Dog Park":MAILTO:contact@thepackdogpark.com
END:VEVENT
BEGIN:VEVENT
DTSTART;TZID=America/New_York:20250618T183000
DTEND;TZID=America/New_York:20250618T200000
DTSTAMP:20260423T220009
CREATED:20250513T011428Z
LAST-MODIFIED:20250513T011428Z
UID:661-1750271400-1750276800@thepackdogpark.com
SUMMARY:Sporting Breeds Meetup
DESCRIPTION:Join us for a fun breed meetup! Dogs matching the breed can pay $10 or use a punch card / membership. All other breeds also welcome with a punch card / membership. All dogs must be registered with proof of required vaccinations.
URL:https://thepackdogpark.com/event/sporting-breeds-meetup/
LOCATION:The Pack Indoor Dog Park\, 5205 West River Dr NE\, Comstock Park\, MI\, 49321
CATEGORIES:Breed Meetup
ORGANIZER;CN="The Pack Indoor Dog Park":MAILTO:contact@thepackdogpark.com
END:VEVENT
BEGIN:VEVENT
DTSTART;TZID=America/New_York:20250616T183000
DTEND;TZID=America/New_York:20250616T200000
DTSTAMP:20260423T220009
CREATED:20250513T011426Z
LAST-MODIFIED:20250513T011426Z
UID:660-1750098600-1750104000@thepackdogpark.com
SUMMARY:Goldendoodle Breed Meetup
DESCRIPTION:Join us for a fun breed meetup! Dogs matching the breed can pay $10 or use a punch card / membership. All other breeds also welcome with a punch card / membership. All dogs must be registered with proof of required vaccinations. This meetup includes games and giveaways at 7pm
URL:https://thepackdogpark.com/event/goldendoodle-breed-meetup-2/
LOCATION:The Pack Indoor Dog Park\, 5205 West River Dr NE\, Comstock Park\, MI\, 49321
CATEGORIES:Breed Meetup
ORGANIZER;CN="The Pack Indoor Dog Park":MAILTO:contact@thepackdogpark.com
END:VEVENT
BEGIN:VEVENT
DTSTART;TZID=America/New_York:20250615T120000
DTEND;TZID=America/New_York:20250615T140000
DTSTAMP:20260423T220009
CREATED:20250513T011423Z
LAST-MODIFIED:20250513T011423Z
UID:659-1749988800-1749996000@thepackdogpark.com
SUMMARY:Fluffy Breeds Meetup
DESCRIPTION:Join us for a fun breed meetup! Dogs matching the breed can pay $10 or use a punch card / membership. All other breeds also welcome with a punch card / membership. All dogs must be registered with proof of required vaccinations.
URL:https://thepackdogpark.com/event/fluffy-breeds-meetup/
LOCATION:The Pack Indoor Dog Park\, 5205 West River Dr NE\, Comstock Park\, MI\, 49321
CATEGORIES:Breed Meetup
ORGANIZER;CN="The Pack Indoor Dog Park":MAILTO:contact@thepackdogpark.com
END:VEVENT
BEGIN:VEVENT
DTSTART;TZID=America/New_York:20250612T183000
DTEND;TZID=America/New_York:20250612T193000
DTSTAMP:20260423T220009
CREATED:20250529T201259Z
LAST-MODIFIED:20250529T201259Z
UID:699-1749753000-1749756600@thepackdogpark.com
SUMMARY:Trivia
DESCRIPTION:Join us every Thursday for Trivia with DnT Entertainent. Play solo or bring friends and play as a team. Gift card prizes to The Pack for 1st – 3rd place. Always free to play! Any dogs attending to play during trivia must be registered with a punch card or membership.
URL:https://thepackdogpark.com/event/trivia-3/
LOCATION:The Pack Indoor Dog Park\, 5205 West River Dr NE\, Comstock Park\, MI\, 49321
CATEGORIES:Breed Meetup
ORGANIZER;CN="The Pack Indoor Dog Park":MAILTO:contact@thepackdogpark.com
END:VEVENT
BEGIN:VEVENT
DTSTART;TZID=America/New_York:20250611T183000
DTEND;TZID=America/New_York:20250611T200000
DTSTAMP:20260423T220009
CREATED:20250513T011422Z
LAST-MODIFIED:20250513T011422Z
UID:658-1749666600-1749672000@thepackdogpark.com
SUMMARY:Corgi Breed Meetup
DESCRIPTION:Join us for a fun breed meetup! Dogs matching the breed can pay $10 or use a punch card / membership. All other breeds also welcome with a punch card / membership. All dogs must be registered with proof of required vaccinations.
URL:https://thepackdogpark.com/event/corgi-breed-meetup-2/
LOCATION:The Pack Indoor Dog Park\, 5205 West River Dr NE\, Comstock Park\, MI\, 49321
CATEGORIES:Breed Meetup
ORGANIZER;CN="The Pack Indoor Dog Park":MAILTO:contact@thepackdogpark.com
END:VEVENT
BEGIN:VEVENT
DTSTART;TZID=America/New_York:20250609T183000
DTEND;TZID=America/New_York:20250609T200000
DTSTAMP:20260423T220009
CREATED:20250513T011419Z
LAST-MODIFIED:20250513T011419Z
UID:657-1749493800-1749499200@thepackdogpark.com
SUMMARY:Bernese Mountain Dog Breed Meetup
DESCRIPTION:Join us for a fun breed meetup! Dogs matching the breed can pay $10 or use a punch card / membership. All other breeds also welcome with a punch card / membership. All dogs must be registered with proof of required vaccinations. This meetup includes games and giveaways at 7pm
URL:https://thepackdogpark.com/event/bernese-mountain-dog-breed-meetup/
LOCATION:The Pack Indoor Dog Park\, 5205 West River Dr NE\, Comstock Park\, MI\, 49321
CATEGORIES:Breed Meetup
ORGANIZER;CN="The Pack Indoor Dog Park":MAILTO:contact@thepackdogpark.com
END:VEVENT
BEGIN:VEVENT
DTSTART;TZID=America/New_York:20250608T120000
DTEND;TZID=America/New_York:20250608T140000
DTSTAMP:20260423T220009
CREATED:20250513T011413Z
LAST-MODIFIED:20250513T011413Z
UID:656-1749384000-1749391200@thepackdogpark.com
SUMMARY:Large Breed (70+lbs) Breed Meetup
DESCRIPTION:Join us for a fun breed meetup! Dogs matching the breed can pay $10 or use a punch card / membership. All other breeds also welcome with a punch card / membership. All dogs must be registered with proof of required vaccinations.
URL:https://thepackdogpark.com/event/large-breed-70lbs-breed-meetup/
LOCATION:The Pack Indoor Dog Park\, 5205 West River Dr NE\, Comstock Park\, MI\, 49321
CATEGORIES:Breed Meetup
ORGANIZER;CN="The Pack Indoor Dog Park":MAILTO:contact@thepackdogpark.com
END:VEVENT
BEGIN:VEVENT
DTSTART;TZID=America/New_York:20250605T183000
DTEND;TZID=America/New_York:20250605T193000
DTSTAMP:20260423T220009
CREATED:20250529T201257Z
LAST-MODIFIED:20250529T201257Z
UID:698-1749148200-1749151800@thepackdogpark.com
SUMMARY:Trivia
DESCRIPTION:Join us every Thursday for Trivia with DnT Entertainent. Play solo or bring friends and play as a team. Gift card prizes to The Pack for 1st – 3rd place. Always free to play! Any dogs attending to play during trivia must be registered with a punch card or membership.
URL:https://thepackdogpark.com/event/trivia-2/
LOCATION:The Pack Indoor Dog Park\, 5205 West River Dr NE\, Comstock Park\, MI\, 49321
CATEGORIES:Breed Meetup
ORGANIZER;CN="The Pack Indoor Dog Park":MAILTO:contact@thepackdogpark.com
END:VEVENT
BEGIN:VEVENT
DTSTART;TZID=America/New_York:20250604T183000
DTEND;TZID=America/New_York:20250604T200000
DTSTAMP:20260423T220009
CREATED:20250513T011411Z
LAST-MODIFIED:20250513T011411Z
UID:655-1749061800-1749067200@thepackdogpark.com
SUMMARY:Golden Retriever Breed Meetup
DESCRIPTION:Join us for a fun breed meetup! Dogs matching the breed can pay $10 or use a punch card / membership. All other breeds also welcome with a punch card / membership. All dogs must be registered with proof of required vaccinations.
URL:https://thepackdogpark.com/event/golden-retriever-breed-meetup-2/
LOCATION:The Pack Indoor Dog Park\, 5205 West River Dr NE\, Comstock Park\, MI\, 49321
CATEGORIES:Breed Meetup
ORGANIZER;CN="The Pack Indoor Dog Park":MAILTO:contact@thepackdogpark.com
END:VEVENT
BEGIN:VEVENT
DTSTART;TZID=America/New_York:20250602T183000
DTEND;TZID=America/New_York:20250602T200000
DTSTAMP:20260423T220009
CREATED:20250513T011409Z
LAST-MODIFIED:20250513T011409Z
UID:654-1748889000-1748894400@thepackdogpark.com
SUMMARY:Beagle Breed Meetup
DESCRIPTION:Join us for a fun breed meetup! Dogs matching the breed can pay $10 or use a punch card / membership. All other breeds also welcome with a punch card / membership. All dogs must be registered with proof of required vaccinations.
URL:https://thepackdogpark.com/event/beagle-breed-meetup/
LOCATION:The Pack Indoor Dog Park\, 5205 West River Dr NE\, Comstock Park\, MI\, 49321
CATEGORIES:Breed Meetup
ORGANIZER;CN="The Pack Indoor Dog Park":MAILTO:contact@thepackdogpark.com
END:VEVENT
BEGIN:VEVENT
DTSTART;TZID=America/New_York:20250601T120000
DTEND;TZID=America/New_York:20250601T140000
DTSTAMP:20260423T220009
CREATED:20250513T011407Z
LAST-MODIFIED:20250513T011407Z
UID:653-1748779200-1748786400@thepackdogpark.com
SUMMARY:Aussiedoodle Breed Meetup
DESCRIPTION:Join us for a fun breed meetup! Dogs matching the breed can pay $10 or use a punch card / membership. All other breeds also welcome with a punch card / membership. All dogs must be registered with proof of required vaccinations. This meetup includes games and giveaways at 1PM
URL:https://thepackdogpark.com/event/aussiedoodle-breed-meetup/
LOCATION:The Pack Indoor Dog Park\, 5205 West River Dr NE\, Comstock Park\, MI\, 49321
CATEGORIES:Breed Meetup
ORGANIZER;CN="The Pack Indoor Dog Park":MAILTO:contact@thepackdogpark.com
END:VEVENT
BEGIN:VEVENT
DTSTART;TZID=America/New_York:20250529T183000
DTEND;TZID=America/New_York:20250529T193000
DTSTAMP:20260423T220009
CREATED:20250529T201254Z
LAST-MODIFIED:20250529T201254Z
UID:697-1748543400-1748547000@thepackdogpark.com
SUMMARY:Trivia
DESCRIPTION:Join us every Thursday for Trivia with DnT Entertainent. Play solo or bring friends and play as a team. Gift card prizes to The Pack for 1st – 3rd place. Always free to play! Any dogs attending to play during trivia must be registered with a punch card or membership.
URL:https://thepackdogpark.com/event/trivia/
LOCATION:The Pack Indoor Dog Park\, 5205 West River Dr NE\, Comstock Park\, MI\, 49321
CATEGORIES:Breed Meetup
ORGANIZER;CN="The Pack Indoor Dog Park":MAILTO:contact@thepackdogpark.com
END:VEVENT
BEGIN:VEVENT
DTSTART;TZID=America/New_York:20250528T183000
DTEND;TZID=America/New_York:20250528T200000
DTSTAMP:20260423T220009
CREATED:20250513T011403Z
LAST-MODIFIED:20250513T011403Z
UID:652-1748457000-1748462400@thepackdogpark.com
SUMMARY:Collie Breed Meetup
DESCRIPTION:Join us for a fun breed meetup! Dogs matching the breed can pay $10 or use a punch card / membership. All other breeds also welcome with a punch card / membership. All dogs must be registered with proof of required vaccinations.
URL:https://thepackdogpark.com/event/collie-breed-meetup/
LOCATION:The Pack Indoor Dog Park\, 5205 West River Dr NE\, Comstock Park\, MI\, 49321
CATEGORIES:Breed Meetup
ORGANIZER;CN="The Pack Indoor Dog Park":MAILTO:contact@thepackdogpark.com
END:VEVENT
BEGIN:VEVENT
DTSTART;TZID=America/New_York:20250525T120000
DTEND;TZID=America/New_York:20250525T140000
DTSTAMP:20260423T220009
CREATED:20250513T011355Z
LAST-MODIFIED:20250513T011355Z
UID:651-1748174400-1748181600@thepackdogpark.com
SUMMARY:Puppy (under 1 year) Meetup
DESCRIPTION:Join us for a fun breed meetup! Dogs matching the breed can pay $10 or use a punch card / membership. All other breeds also welcome with a punch card / membership. All dogs must be registered with proof of required vaccinations.
URL:https://thepackdogpark.com/event/puppy-under-1-year-meetup/
LOCATION:The Pack Indoor Dog Park\, 5205 West River Dr NE\, Comstock Park\, MI\, 49321
CATEGORIES:Breed Meetup
ORGANIZER;CN="The Pack Indoor Dog Park":MAILTO:contact@thepackdogpark.com
END:VEVENT
BEGIN:VEVENT
DTSTART;TZID=America/New_York:20250521T183000
DTEND;TZID=America/New_York:20250521T200000
DTSTAMP:20260423T220009
CREATED:20250513T011354Z
LAST-MODIFIED:20250513T011354Z
UID:650-1747852200-1747857600@thepackdogpark.com
SUMMARY:Hound Breed Meetup
DESCRIPTION:Join us for a fun breed meetup! Dogs matching the breed can pay $10 or use a punch card / membership. All other breeds also welcome with a punch card / membership. All dogs must be registered with proof of required vaccinations.
URL:https://thepackdogpark.com/event/hound-breed-meetup/
LOCATION:The Pack Indoor Dog Park\, 5205 West River Dr NE\, Comstock Park\, MI\, 49321
CATEGORIES:Breed Meetup
ORGANIZER;CN="The Pack Indoor Dog Park":MAILTO:contact@thepackdogpark.com
END:VEVENT
BEGIN:VEVENT
DTSTART;TZID=America/New_York:20250519T183000
DTEND;TZID=America/New_York:20250519T200000
DTSTAMP:20260423T220009
CREATED:20250513T011352Z
LAST-MODIFIED:20250513T011352Z
UID:649-1747679400-1747684800@thepackdogpark.com
SUMMARY:Goldendoodle Breed Meetup
DESCRIPTION:Join us for a fun breed meetup! Dogs matching the breed can pay $10 or use a punch card / membership. All other breeds also welcome with a punch card / membership. All dogs must be registered with proof of required vaccinations. This meetup includes games and giveaways at 7pm
URL:https://thepackdogpark.com/event/goldendoodle-breed-meetup/
LOCATION:The Pack Indoor Dog Park\, 5205 West River Dr NE\, Comstock Park\, MI\, 49321
CATEGORIES:Breed Meetup
ORGANIZER;CN="The Pack Indoor Dog Park":MAILTO:contact@thepackdogpark.com
END:VEVENT
BEGIN:VEVENT
DTSTART;TZID=America/New_York:20250518T120000
DTEND;TZID=America/New_York:20250518T140000
DTSTAMP:20260423T220009
CREATED:20250513T011349Z
LAST-MODIFIED:20250513T011349Z
UID:648-1747569600-1747576800@thepackdogpark.com
SUMMARY:Australian Shepherd / Aussie Mix Breed Meetup
DESCRIPTION:Join us for a fun breed meetup! Dogs matching the breed can pay $10 or use a punch card / membership. All other breeds also welcome with a punch card / membership. All dogs must be registered with proof of required vaccinations. This meetup includes games and giveaways at 1PM
URL:https://thepackdogpark.com/event/australian-shepherd-aussie-mix-breed-meetup/
LOCATION:The Pack Indoor Dog Park\, 5205 West River Dr NE\, Comstock Park\, MI\, 49321
CATEGORIES:Breed Meetup
ORGANIZER;CN="The Pack Indoor Dog Park":MAILTO:contact@thepackdogpark.com
END:VEVENT
BEGIN:VEVENT
DTSTART;TZID=America/New_York:20250514T183000
DTEND;TZID=America/New_York:20250514T200000
DTSTAMP:20260423T220009
CREATED:20250513T011338Z
LAST-MODIFIED:20250513T011338Z
UID:647-1747247400-1747252800@thepackdogpark.com
SUMMARY:Corgi Breed Meetup
DESCRIPTION:Join us for a fun breed meetup! Dogs matching the breed can pay $10 or use a punch card / membership. All other breeds also welcome with a punch card / membership. All dogs must be registered with proof of required vaccinations. This meetup includes games and giveaways at 7pm
URL:https://thepackdogpark.com/event/corgi-breed-meetup/
LOCATION:The Pack Indoor Dog Park\, 5205 West River Dr NE\, Comstock Park\, MI\, 49321
CATEGORIES:Breed Meetup
ORGANIZER;CN="The Pack Indoor Dog Park":MAILTO:contact@thepackdogpark.com
END:VEVENT
BEGIN:VEVENT
DTSTART;TZID=America/New_York:20250512T183000
DTEND;TZID=America/New_York:20250512T200000
DTSTAMP:20260423T220009
CREATED:20250512T180639Z
LAST-MODIFIED:20250512T180639Z
UID:644-1747074600-1747080000@thepackdogpark.com
SUMMARY:Golden Retriever Breed Meetup
DESCRIPTION:Join us for a fun breed meetup! Dogs matching the breed can pay $10 or use a punch card / membership. All other breeds also welcome with a punch card / membership. All dogs must be registered with proof of required vaccinations. This meetup includes games and giveaways at 7pm
URL:https://thepackdogpark.com/event/golden-retriever-breed-meetup/
LOCATION:The Pack Indoor Dog Park\, 5205 West River Dr NE\, Comstock Park\, MI\, 49321
CATEGORIES:Breed Meetup
ORGANIZER;CN="The Pack Indoor Dog Park":MAILTO:contact@thepackdogpark.com
END:VEVENT
BEGIN:VEVENT
DTSTART;TZID=UTC:20241001T183000
DTEND;TZID=UTC:20241001T200000
DTSTAMP:20260423T220009
CREATED:20240722T181526Z
LAST-MODIFIED:20240722T181526Z
UID:573-1727807400-1727812800@thepackdogpark.com
SUMMARY:Breed Meetup: Snow Loving Dogs
DESCRIPTION:All dogs must be registered with proof of required vaccinations.  Dogs without a membership can come and play for only $10.00.  Games and giveaways for your pups start at 7PM sharp.
URL:https://thepackdogpark.com/event/breed-meetup-snow-loving-dogs/
LOCATION:The Pack Indoor Dog Park\, 5205 West River Dr NE\, Comstock Park\, MI\, 49321
CATEGORIES:Breed Meetup
ORGANIZER;CN="The Pack Indoor Dog Park":MAILTO:contact@thepackdogpark.com
END:VEVENT
BEGIN:VEVENT
DTSTART;TZID=UTC:20240924T183000
DTEND;TZID=UTC:20240924T200000
DTSTAMP:20260423T220009
CREATED:20240722T181433Z
LAST-MODIFIED:20240722T181433Z
UID:571-1727202600-1727208000@thepackdogpark.com
SUMMARY:Breed Meetup: Bernese Mountain Dog and BMD Mixes
DESCRIPTION:All dogs must be registered with proof of required vaccinations.  Dogs without a membership can come and play for only $10.00.  Games and giveaways for your pups start at 7PM sharp.
URL:https://thepackdogpark.com/event/breed-meetup-bernese-mountain-dog-and-bmd-mixes/
LOCATION:The Pack Indoor Dog Park\, 5205 West River Dr NE\, Comstock Park\, MI\, 49321
CATEGORIES:Breed Meetup
ORGANIZER;CN="The Pack Indoor Dog Park":MAILTO:contact@thepackdogpark.com
END:VEVENT
BEGIN:VEVENT
DTSTART;TZID=UTC:20240917T183000
DTEND;TZID=UTC:20240917T200000
DTSTAMP:20260423T220009
CREATED:20240722T181335Z
LAST-MODIFIED:20240722T181335Z
UID:569-1726597800-1726603200@thepackdogpark.com
SUMMARY:Breed Meetup: Rescues
DESCRIPTION:All dogs must be registered with proof of required vaccinations.  Dogs without a membership can come and play for only $10.00.  Games and giveaways for your pups start at 7PM sharp.
URL:https://thepackdogpark.com/event/breed-meetup-rescues-2/
LOCATION:The Pack Indoor Dog Park\, 5205 West River Dr NE\, Comstock Park\, MI\, 49321
CATEGORIES:Breed Meetup
ORGANIZER;CN="The Pack Indoor Dog Park":MAILTO:contact@thepackdogpark.com
END:VEVENT
BEGIN:VEVENT
DTSTART;TZID=UTC:20240910T183000
DTEND;TZID=UTC:20240910T200000
DTSTAMP:20260423T220009
CREATED:20240722T181245Z
LAST-MODIFIED:20240722T181245Z
UID:567-1725993000-1725998400@thepackdogpark.com
SUMMARY:Breed Meetup: Aussie & Aussie Mix
DESCRIPTION:All dogs must be registered with proof of required vaccinations.  Dogs without a membership can come and play for only $10.00.  Games and giveaways for your pups start at 7PM sharp.
URL:https://thepackdogpark.com/event/breed-meetup-aussie-aussie-mix/
LOCATION:The Pack Indoor Dog Park\, 5205 West River Dr NE\, Comstock Park\, MI\, 49321
CATEGORIES:Breed Meetup
ORGANIZER;CN="The Pack Indoor Dog Park":MAILTO:contact@thepackdogpark.com
END:VEVENT
END:VCALENDAR