BEGIN:VCALENDAR
VERSION:2.0
PRODID:-//The Pack Indoor Dog Park - ECPv6.15.20//NONSGML v1.0//EN
CALSCALE:GREGORIAN
METHOD:PUBLISH
X-ORIGINAL-URL:https://thepackdogpark.com
X-WR-CALDESC:Events for The Pack Indoor Dog Park
REFRESH-INTERVAL;VALUE=DURATION:PT1H
X-Robots-Tag:noindex
X-PUBLISHED-TTL:PT1H
BEGIN:VTIMEZONE
TZID:UTC
BEGIN:STANDARD
TZOFFSETFROM:+0000
TZOFFSETTO:+0000
TZNAME:UTC
DTSTART:20230101T000000
END:STANDARD
END:VTIMEZONE
BEGIN:VEVENT
DTSTART;TZID=UTC:20240813T183000
DTEND;TZID=UTC:20240813T200000
DTSTAMP:20260424T221836
CREATED:20240722T174421Z
LAST-MODIFIED:20240722T174421Z
UID:559-1723573800-1723579200@thepackdogpark.com
SUMMARY:Breed Meetup: Puppies (under 1 year old)
DESCRIPTION:All dogs must be registered with proof of required vaccinations.  Dogs without a membership can come and play for only $10.00.  Games and giveaways for your pups start at 7PM sharp.
URL:https://thepackdogpark.com/event/breed-meetup-puppies-under-1-year-old-2/
LOCATION:The Pack Indoor Dog Park\, 5205 West River Dr NE\, Comstock Park\, MI\, 49321
CATEGORIES:Breed Meetup
ORGANIZER;CN="The Pack Indoor Dog Park":MAILTO:contact@thepackdogpark.com
END:VEVENT
BEGIN:VEVENT
DTSTART;TZID=UTC:20240820T183000
DTEND;TZID=UTC:20240820T200000
DTSTAMP:20260424T221836
CREATED:20240722T180459Z
LAST-MODIFIED:20240722T180459Z
UID:561-1724178600-1724184000@thepackdogpark.com
SUMMARY:Breed Meetup: Small and Toy Breeds
DESCRIPTION:All dogs must be registered with proof of required vaccinations.  Dogs without a membership can come and play for only $10.00.  Games and giveaways for your pups start at 7PM sharp.
URL:https://thepackdogpark.com/event/breed-meetup-small-and-toy-breeds/
LOCATION:The Pack Indoor Dog Park\, 5205 West River Dr NE\, Comstock Park\, MI\, 49321
CATEGORIES:Breed Meetup
ORGANIZER;CN="The Pack Indoor Dog Park":MAILTO:contact@thepackdogpark.com
END:VEVENT
END:VCALENDAR