BEGIN:VCALENDAR
VERSION:2.0
PRODID:-//The Pack Indoor Dog Park - ECPv6.15.20//NONSGML v1.0//EN
CALSCALE:GREGORIAN
METHOD:PUBLISH
X-ORIGINAL-URL:https://thepackdogpark.com
X-WR-CALDESC:Events for The Pack Indoor Dog Park
REFRESH-INTERVAL;VALUE=DURATION:PT1H
X-Robots-Tag:noindex
X-PUBLISHED-TTL:PT1H
BEGIN:VTIMEZONE
TZID:UTC
BEGIN:STANDARD
TZOFFSETFROM:+0000
TZOFFSETTO:+0000
TZNAME:UTC
DTSTART:20230101T000000
END:STANDARD
END:VTIMEZONE
BEGIN:VEVENT
DTSTART;TZID=UTC:20240521T183000
DTEND;TZID=UTC:20240521T200000
DTSTAMP:20260425T164112
CREATED:20240401T165914Z
LAST-MODIFIED:20240401T165914Z
UID:510-1716316200-1716321600@thepackdogpark.com
SUMMARY:Breed Meetup:  Frenchies
DESCRIPTION:Calling all French Bulldogs!! All dogs must be registered with proof of required vaccinations.  Frenchies  without a membership can come and play for only $10.00.  Games and giveaways for your pups start at 7PM sharp. \n 
URL:https://thepackdogpark.com/event/breed-meetup-frenchies-2/
LOCATION:The Pack Indoor Dog Park\, 5205 West River Dr NE\, Comstock Park\, MI\, 49321
CATEGORIES:Breed Meetup
ORGANIZER;CN="The Pack Indoor Dog Park":MAILTO:contact@thepackdogpark.com
END:VEVENT
END:VCALENDAR